BEGIN:VCALENDAR
VERSION:2.0
PRODID:-//https://cameronstation.org//NONSGML kigkonsult.se iCalcreator 2.41.71//
CALSCALE:GREGORIAN
METHOD:PUBLISH
UID:63363030-6333-4266-b731-653434646638
X-WR-CALNAME:JCal Pro Calendar
X-WR-CALDESC:Your online events calendar
X-WR-TIMEZONE:America/New_York
BEGIN:VTIMEZONE
TZID:America/New_York
TZUNTIL:20271107T060000Z
BEGIN:STANDARD
TZNAME:EST
DTSTART:20251102T020000
TZOFFSETFROM:-0400
TZOFFSETTO:-0500
RDATE:20261101T020000
END:STANDARD
BEGIN:DAYLIGHT
TZNAME:EDT
DTSTART:20260308T020000
TZOFFSETFROM:-0500
TZOFFSETTO:-0400
RDATE:20270314T020000
END:DAYLIGHT
END:VTIMEZONE
BEGIN:VEVENT
UID:20260804T060000UTC-3332iHR2PV@https://cameronstation.org/
DTSTAMP:20260423T214324Z
CATEGORIES:Advisories
DESCRIPTION:<p><span>Primary elections for all offices appearing on the 202
 6 November General Election ballot will be held on August 4\, 2026. <span 
 style='text-decoration: underline\;'><a href='https://www.elections.virgin
 ia.gov/news-releases/primary-election-moved-to-august-4-1.html'>Click here
 </a></span> for more information.&nbsp\;</span></p>\n<p><span>The Cameron 
 Club will be a polling place for th Primary Election on August 4\, 2026.&n
 bsp\;</span></p>\n<p><span>Polling Place Information:</span></p>\n<p><span
 >Time:</span><span>&nbsp\;6:00 am to 7:00 pm</span></p>\n<p><span>Location
 :</span><span>&nbsp\;Cameron Club\, Victoria Hebert Great Room</span></p>
 \n<p><span>Entry:&nbsp\;</span><span>200 Cameron Station\, Fitness Center 
 entrance</span></p>\n<p><span>Exit:</span><span>&nbsp\;Side exit within th
 e Great Room</span></p>\n<p><span>Signs will be posted throughout the Came
 ron Club to show entry and exit. Volunteers will be on site to guide and a
 ssist with parking.</span></p>\n<p>&nbsp\;</p>
DTSTART;TZID=America/New_York:20260804T060000
DTEND;TZID=America/New_York:20260804T190000
SUMMARY:Primary Election Polling Place - Victoria Hebert Great Room
URL:https://cameronstation.org/calendar/84-advisories/10509-primary-electio
 n-polling-place-victoria-hebert-great-room
X-ALT-DESC;FMTTYPE=TEXT/HTML:<p><span>Primary elections for all offices app
 earing on the 2026 November General Election ballot will be held on August
  4\, 2026. <span style='text-decoration: underline\;'><a href='https://www
 .elections.virginia.gov/news-releases/primary-election-moved-to-august-4-1
 .html'>Click here</a></span> for more information.&nbsp\;</span></p>\n<p><
 span>The Cameron Club will be a polling place for th Primary Election on A
 ugust 4\, 2026.&nbsp\;</span></p>\n<p><span>Polling Place Information:</sp
 an></p>\n<p><span>Time:</span><span>&nbsp\;6:00 am to 7:00 pm</span></p>\n
 <p><span>Location:</span><span>&nbsp\;Cameron Club\, Victoria Hebert Great
  Room</span></p>\n<p><span>Entry:&nbsp\;</span><span>200 Cameron Station\,
  Fitness Center entrance</span></p>\n<p><span>Exit:</span><span>&nbsp\;Sid
 e exit within the Great Room</span></p>\n<p><span>Signs will be posted thr
 oughout the Cameron Club to show entry and exit. Volunteers will be on sit
 e to guide and assist with parking.</span></p>\n<p>&nbsp\;</p>
END:VEVENT
END:VCALENDAR
