BEGIN:VCALENDAR
VERSION:2.0
PRODID:-//https://cameronstation.org//NONSGML kigkonsult.se iCalcreator 2.41.71//
CALSCALE:GREGORIAN
METHOD:PUBLISH
UID:65343062-3537-4535-b838-393830653866
X-WR-CALNAME:JCal Pro Calendar
X-WR-CALDESC:Your online events calendar
X-WR-TIMEZONE:America/New_York
BEGIN:VTIMEZONE
TZID:America/New_York
TZUNTIL:20271107T060000Z
BEGIN:STANDARD
TZNAME:EST
DTSTART:20251102T020000
TZOFFSETFROM:-0400
TZOFFSETTO:-0500
RDATE:20261101T020000
END:STANDARD
BEGIN:DAYLIGHT
TZNAME:EDT
DTSTART:20260308T020000
TZOFFSETFROM:-0500
TZOFFSETTO:-0400
RDATE:20270314T020000
END:DAYLIGHT
END:VTIMEZONE
BEGIN:VEVENT
UID:20250901T090000UTC-4885RUx2Iw@https://cameronstation.org/
DTSTAMP:20260424T060927Z
CATEGORIES:Advisories
DESCRIPTION:<p><strong>Onsite Management Office Holiday Hours</strong></p>
 \n<p>The Association Office will be&nbsp\;closed Monday\, September 1\, 20
 25\, in observance of the Labor Day holiday. Normal hours will resume Tues
 day\, September 2\, 2025\, at 9:00 am.</p>\n<p><strong>Cameron Club Holida
 y Hours</strong></p>\n<p><strong>The&nbsp\;Cameron Club and Pool will oper
 ate as normal&nbsp\;Monday\, September 1\, 2025.</strong> Please note that
  after Labor Day\, the pool will be open for <strong>weekends only\, until
  Sunday\, September 28\, 2025.</strong></p>\n<p><strong>Trash/Recycling Se
 rvices</strong></p>\n<p>There will be <strong>no trash collection on Monda
 y\, September 1\, 2025\, and no bulk item collection on Thursday\, Septemb
 er 4\, 2025.</strong> Trash collection will occur on Thursday September 4\
 , 2025\, and bulk item collection resumes Thursday\, September 11\, 2025. 
 <strong>Normal trash collection will resume Monday\, September 8\, 2025.&n
 bsp\;</strong></p>\n<p><strong>Shuttle Bus Service</strong></p>\n<p>The&nb
 sp\;shuttle buses&nbsp\;will not&nbsp\;provide service Monday\, September 
 1\, 2025. Service will resume on Tuesday\, September 2\, 2025.&nbsp\;<span
  style='text-decoration: underline\;'><span style='color: #000000\;'><a hr
 ef='https://www.cameronstation.org/pdf/Van_Dorn_Shuttle_Schedule.pdf' targ
 et='_blank' rel='noopener noreferrer' style='color: #000000\; text-decorat
 ion: underline\;' data-link-type='web'>Click here</a></span></span>&nbsp\;
 to view the current shuttle schedule.</p>
DTSTART;TZID=America/New_York:20250901T090000
DTEND;TZID=America/New_York:20250901T170000
SUMMARY:Labor Day: Office Closed
URL:https://cameronstation.org/calendar/84-advisories/9178-labor-day-office
 -closed
X-ALT-DESC;FMTTYPE=TEXT/HTML:<p><strong>Onsite Management Office Holiday Ho
 urs</strong></p>\n<p>The Association Office will be&nbsp\;closed Monday\, 
 September 1\, 2025\, in observance of the Labor Day holiday. Normal hours 
 will resume Tuesday\, September 2\, 2025\, at 9:00 am.</p>\n<p><strong>Cam
 eron Club Holiday Hours</strong></p>\n<p><strong>The&nbsp\;Cameron Club an
 d Pool will operate as normal&nbsp\;Monday\, September 1\, 2025.</strong> 
 Please note that after Labor Day\, the pool will be open for <strong>weeke
 nds only\, until Sunday\, September 28\, 2025.</strong></p>\n<p><strong>Tr
 ash/Recycling Services</strong></p>\n<p>There will be <strong>no trash col
 lection on Monday\, September 1\, 2025\, and no bulk item collection on Th
 ursday\, September 4\, 2025.</strong> Trash collection will occur on Thurs
 day September 4\, 2025\, and bulk item collection resumes Thursday\, Septe
 mber 11\, 2025. <strong>Normal trash collection will resume Monday\, Septe
 mber 8\, 2025.&nbsp\;</strong></p>\n<p><strong>Shuttle Bus Service</strong
 ></p>\n<p>The&nbsp\;shuttle buses&nbsp\;will not&nbsp\;provide service Mon
 day\, September 1\, 2025. Service will resume on Tuesday\, September 2\, 2
 025.&nbsp\;<span style='text-decoration: underline\;'><span style='color: 
 #000000\;'><a href='https://www.cameronstation.org/pdf/Van_Dorn_Shuttle_Sc
 hedule.pdf' target='_blank' rel='noopener noreferrer' style='color: #00000
 0\; text-decoration: underline\;' data-link-type='web'>Click here</a></spa
 n></span>&nbsp\;to view the current shuttle schedule.</p>
END:VEVENT
BEGIN:VEVENT
UID:20250604T103000UTC-7217vxuAWv@https://cameronstation.org/
DTSTAMP:20260424T060927Z
CATEGORIES:Fitness Center
DESCRIPTION:<p>Stretch &amp\; Core (Complimentary) - Mondays and Wednesdays
  10:30 - 11:30 am -&nbsp\;Multi-Purpose Court</p>\n<p>A focused abdominal 
 &amp\; core training session using a variety of tools\, which may include 
 stability balls\, BOSU\, medicine balls\, and weights integrated with rest
 orative stretch and flexibility.</p>
DTSTART;TZID=America/New_York:20250604T103000
DTEND;TZID=America/New_York:20250604T113000
RRULE:FREQ=WEEKLY;UNTIL=20260629T040000Z;INTERVAL=1;BYDAY=MO,WE
SUMMARY:Stretch and Core
URL:https://cameronstation.org/calendar/83-fitness-center/9240-stretch-and-
 core
X-ALT-DESC;FMTTYPE=TEXT/HTML:<p>Stretch &amp\; Core (Complimentary) - Monda
 ys and Wednesdays 10:30 - 11:30 am -&nbsp\;Multi-Purpose Court</p>\n<p>A f
 ocused abdominal &amp\; core training session using a variety of tools\, w
 hich may include stability balls\, BOSU\, medicine balls\, and weights int
 egrated with restorative stretch and flexibility.</p>
END:VEVENT
BEGIN:VEVENT
UID:20250106T183000UTC-1110oKfAAv@https://cameronstation.org/
DTSTAMP:20260424T060927Z
CATEGORIES:Fitness Center
DESCRIPTION:<p><strong>Vinyasa Flow Yoga (Complimentary) – Cancelled</stron
 g></p>\n<p>Vinyasa Yoga class is cancelled Monday\, September 1\, 2025\, d
 ue to the Labor day Holiday.&nbsp\;</p>
DTSTART;TZID=America/New_York:20250901T183000
DTEND;TZID=America/New_York:20250901T193000
SUMMARY:Vinyasa Flow Yoga - Cancelled
URL:https://cameronstation.org/calendar/83-fitness-center/8938-vinyasa-flow
 -yoga
X-ALT-DESC;FMTTYPE=TEXT/HTML:<p><strong>Vinyasa Flow Yoga (Complimentary) –
  Cancelled</strong></p>\n<p>Vinyasa Yoga class is cancelled Monday\, Septe
 mber 1\, 2025\, due to the Labor day Holiday.&nbsp\;</p>
END:VEVENT
BEGIN:VEVENT
UID:20250106T183000UTC-1110oKfAAv@https://cameronstation.org/
DTSTAMP:20260424T060927Z
CATEGORIES:Fitness Center
DESCRIPTION:<p><strong>Vinyasa Flow Yoga (Complimentary) – Mondays 6:30 pm 
 – 7:30 pm – Victoria Hebert Great Room</strong></p>\n<p>Vinyasa yoga\, in 
 which movement is synchronized to the breath\, is a term that covers a bro
 ad range of yoga classes. This style is sometimes also called flow yoga\, 
 because of the smooth way that the poses run together and become like a da
 nce.</p>\n<p>The breath acts as an anchor to the movement as you flow from
  one pose to the next in time with an inhale or an exhale.</p>
DTSTART;TZID=America/New_York:20250113T183000
DTEND;TZID=America/New_York:20250113T193000
EXDATE;TZID=America/New_York:20250901T183000
RRULE:FREQ=WEEKLY;UNTIL=20260629T040000Z;INTERVAL=1;BYDAY=MO
SUMMARY:Vinyasa Flow Yoga
URL:https://cameronstation.org/calendar/83-fitness-center/8171-vinyasa-flow
 -yoga
X-ALT-DESC;FMTTYPE=TEXT/HTML:<p><strong>Vinyasa Flow Yoga (Complimentary) –
  Mondays 6:30 pm – 7:30 pm – Victoria Hebert Great Room</strong></p>\n<p>V
 inyasa yoga\, in which movement is synchronized to the breath\, is a term 
 that covers a broad range of yoga classes. This style is sometimes also ca
 lled flow yoga\, because of the smooth way that the poses run together and
  become like a dance.</p>\n<p>The breath acts as an anchor to the movement
  as you flow from one pose to the next in time with an inhale or an exhale
 .</p>
END:VEVENT
END:VCALENDAR
