BEGIN:VCALENDAR
VERSION:2.0
PRODID:-//https://cameronstation.org//NONSGML kigkonsult.se iCalcreator 2.41.71//
CALSCALE:GREGORIAN
METHOD:PUBLISH
UID:63633461-3132-4461-b963-643532393535
X-WR-CALNAME:JCal Pro Calendar
X-WR-CALDESC:Your online events calendar
X-WR-TIMEZONE:America/New_York
BEGIN:VTIMEZONE
TZID:America/New_York
TZUNTIL:20271107T060000Z
BEGIN:STANDARD
TZNAME:EST
DTSTART:20251102T020000
TZOFFSETFROM:-0400
TZOFFSETTO:-0500
RDATE:20261101T020000
END:STANDARD
BEGIN:DAYLIGHT
TZNAME:EDT
DTSTART:20260308T020000
TZOFFSETFROM:-0500
TZOFFSETTO:-0400
RDATE:20270314T020000
END:DAYLIGHT
END:VTIMEZONE
BEGIN:VEVENT
UID:20250524T090000UTC-5741wz5A7E@https://cameronstation.org/
DTSTAMP:20260424T110952Z
CATEGORIES:Fitness Center
DESCRIPTION:<p><strong>Aqua Aerobics is cancelled today and a POMSQUAD Clas
 s will be provided\, instead.&nbsp\;</strong></p>\n<p><strong>Saturday\, J
 uly 19\, 2025\, 9:00 - 10:00 am\, Multipurpose Court.&nbsp\;</strong></p>
DTSTART;TZID=America/New_York:20250719T090000
DTEND;TZID=America/New_York:20250719T100000
SUMMARY:Aqua Aerobics - Canceled for POMSQUAD Class
URL:https://cameronstation.org/calendar/83-fitness-center/9127-aqua-aerobic
 s
X-ALT-DESC;FMTTYPE=TEXT/HTML:<p><strong>Aqua Aerobics is cancelled today an
 d a POMSQUAD Class will be provided\, instead.&nbsp\;</strong></p>\n<p><st
 rong>Saturday\, July 19\, 2025\, 9:00 - 10:00 am\, Multipurpose Court.&nbs
 p\;</strong></p>
END:VEVENT
END:VCALENDAR
