BEGIN:VCALENDAR
VERSION:2.0
PRODID:-//https://cameronstation.org//NONSGML kigkonsult.se iCalcreator 2.41.71//
CALSCALE:GREGORIAN
METHOD:PUBLISH
UID:37663964-3537-4663-b233-633131343234
X-WR-CALNAME:JCal Pro Calendar
X-WR-CALDESC:Your online events calendar
X-WR-TIMEZONE:America/New_York
BEGIN:VTIMEZONE
TZID:America/New_York
TZUNTIL:20271107T060000Z
BEGIN:STANDARD
TZNAME:EST
DTSTART:20251102T020000
TZOFFSETFROM:-0400
TZOFFSETTO:-0500
RDATE:20261101T020000
END:STANDARD
BEGIN:DAYLIGHT
TZNAME:EDT
DTSTART:20260308T020000
TZOFFSETFROM:-0500
TZOFFSETTO:-0400
RDATE:20270314T020000
END:DAYLIGHT
END:VTIMEZONE
BEGIN:VEVENT
UID:20251018T150000UTC-2303aUNtZe@https://cameronstation.org/
DTSTAMP:20260424T042233Z
CATEGORIES:Local Events
DESCRIPTION:<p>Science\, costumes\, and a little bit of Halloween magic wil
 l collide at the 10th Annual&nbsp\;Spooky Mad Science Expo&nbsp\;on Saturd
 ay\, October 18\, 2025\, from 3 to 7 p.m. at the Patrick Henry Recreation 
 Center\, 4653 Taney Ave. A rain date is set for October 25\, 2025. <span s
 tyle='text-decoration: underline\;'><a href='https://chrysalisdg.org/spook
 y-mad-science-expo/' target='_blank' rel='noopener noreferrer' data-link-t
 ype='web'>Click here</a></span> for more information.</p>
DTSTART;TZID=America/New_York:20251018T150000
DTEND;TZID=America/New_York:20251018T190000
SUMMARY:Alexandria’s Mad Science Expo
URL:https://cameronstation.org/calendar/86-local-events/9317-alexandrias-ma
 d-science-expo
X-ALT-DESC;FMTTYPE=TEXT/HTML:<p>Science\, costumes\, and a little bit of Ha
 lloween magic will collide at the 10th Annual&nbsp\;Spooky Mad Science Exp
 o&nbsp\;on Saturday\, October 18\, 2025\, from 3 to 7 p.m. at the Patrick 
 Henry Recreation Center\, 4653 Taney Ave. A rain date is set for October 2
 5\, 2025. <span style='text-decoration: underline\;'><a href='https://chry
 salisdg.org/spooky-mad-science-expo/' target='_blank' rel='noopener norefe
 rrer' data-link-type='web'>Click here</a></span> for more information.</p>
END:VEVENT
END:VCALENDAR
