BEGIN:VCALENDAR
VERSION:2.0
PRODID:-//https://cameronstation.org//NONSGML kigkonsult.se iCalcreator 2.41.71//
CALSCALE:GREGORIAN
METHOD:PUBLISH
UID:64613230-3438-4332-a333-623035663131
X-WR-CALNAME:JCal Pro Calendar
X-WR-CALDESC:Your online events calendar
X-WR-TIMEZONE:America/New_York
BEGIN:VTIMEZONE
TZID:America/New_York
TZUNTIL:20271107T060000Z
BEGIN:STANDARD
TZNAME:EST
DTSTART:20251102T020000
TZOFFSETFROM:-0400
TZOFFSETTO:-0500
RDATE:20261101T020000
END:STANDARD
BEGIN:DAYLIGHT
TZNAME:EDT
DTSTART:20260308T020000
TZOFFSETFROM:-0500
TZOFFSETTO:-0400
RDATE:20270314T020000
END:DAYLIGHT
END:VTIMEZONE
BEGIN:VEVENT
UID:20250826T110000UTC-7054l8pfIL@https://cameronstation.org/
DTSTAMP:20260424T092934Z
CATEGORIES:Local Events
DESCRIPTION:<p>The City of Alexandria will host a Job Fair\, Tuesday\, Augu
 st 26\, 20205\, from 11:00 am to 2:00 pm.</p>\n<p>It will take place at th
 e <a href='https://apps.alexandriava.gov/Calendar/?sl=1548' target='_blank
 ' rel='noopener noreferrer'>Del Pepper Community Resource Center\, 4850 Ma
 rk Center Drive</a>\, Community Conference Room First Floor.</p>\n<p>Resou
 rces will include:</p>\n<p>- City of Alexandria Hiring Departments</p>\n<p
 >- Free Headshots &amp\; Resume Workshop (Limited Space !)</p>\n<p>- Virgi
 nia Employment Commission and COA’s Financial Literacy Program Representat
 ives</p>\n<p>Spaces are limited!&nbsp\;<a href='https://apps.alexandriava.
 gov/Calendar/Detail.aspx?si=59744' target='_blank' rel='noopener noreferre
 r' data-link-type='web'>Click here</a> for more information and to registe
 r online.</p>
DTSTART;TZID=America/New_York:20250826T110000
DTEND;TZID=America/New_York:20250826T140000
SUMMARY:Alexandria Job Fair
URL:https://cameronstation.org/calendar/86-local-events/9176-alexandria-job
 -fair
X-ALT-DESC;FMTTYPE=TEXT/HTML:<p>The City of Alexandria will host a Job Fair
 \, Tuesday\, August 26\, 20205\, from 11:00 am to 2:00 pm.</p>\n<p>It will
  take place at the <a href='https://apps.alexandriava.gov/Calendar/?sl=154
 8' target='_blank' rel='noopener noreferrer'>Del Pepper Community Resource
  Center\, 4850 Mark Center Drive</a>\, Community Conference Room First Flo
 or.</p>\n<p>Resources will include:</p>\n<p>- City of Alexandria Hiring De
 partments</p>\n<p>- Free Headshots &amp\; Resume Workshop (Limited Space !
 )</p>\n<p>- Virginia Employment Commission and COA’s Financial Literacy Pr
 ogram Representatives</p>\n<p>Spaces are limited!&nbsp\;<a href='https://a
 pps.alexandriava.gov/Calendar/Detail.aspx?si=59744' target='_blank' rel='n
 oopener noreferrer' data-link-type='web'>Click here</a> for more informati
 on and to register online.</p>
END:VEVENT
END:VCALENDAR
