BEGIN:VCALENDAR
VERSION:2.0
PRODID:-//https://cameronstation.org//NONSGML kigkonsult.se iCalcreator 2.41.71//
CALSCALE:GREGORIAN
METHOD:PUBLISH
UID:32313561-3838-4733-b261-636132643232
X-WR-CALNAME:JCal Pro Calendar
X-WR-CALDESC:Your online events calendar
X-WR-TIMEZONE:America/New_York
BEGIN:VTIMEZONE
TZID:America/New_York
TZUNTIL:20271107T060000Z
BEGIN:STANDARD
TZNAME:EST
DTSTART:20251102T020000
TZOFFSETFROM:-0400
TZOFFSETTO:-0500
RDATE:20261101T020000
END:STANDARD
BEGIN:DAYLIGHT
TZNAME:EDT
DTSTART:20260308T020000
TZOFFSETFROM:-0500
TZOFFSETTO:-0400
RDATE:20270314T020000
END:DAYLIGHT
END:VTIMEZONE
BEGIN:VEVENT
UID:20250721T080000UTC-6133cBE8hT@https://cameronstation.org/
DTSTAMP:20260424T095012Z
CATEGORIES:Local Events
DTSTART;TZID=America/New_York:20250721T000000
DTEND;TZID=America/New_York:20250721T235959
SUMMARY:First Day of School: Samuel W. Tucker Elementary School
URL:https://cameronstation.org/calendar/86-local-events/9165-first-day-of-s
 chool-samuel-w-tucker-elementary-school
END:VEVENT
END:VCALENDAR
