BEGIN:VCALENDAR
VERSION:2.0
PRODID:-//https://cameronstation.org//NONSGML kigkonsult.se iCalcreator 2.41.71//
CALSCALE:GREGORIAN
METHOD:PUBLISH
UID:66313966-3561-4638-b263-336361316463
X-WR-CALNAME:JCal Pro Calendar
X-WR-CALDESC:Your online events calendar
X-WR-TIMEZONE:America/New_York
BEGIN:VTIMEZONE
TZID:America/New_York
TZUNTIL:20271107T060000Z
BEGIN:STANDARD
TZNAME:EST
DTSTART:20251102T020000
TZOFFSETFROM:-0400
TZOFFSETTO:-0500
RDATE:20261101T020000
END:STANDARD
BEGIN:DAYLIGHT
TZNAME:EDT
DTSTART:20260308T020000
TZOFFSETFROM:-0500
TZOFFSETTO:-0400
RDATE:20270314T020000
END:DAYLIGHT
END:VTIMEZONE
BEGIN:VEVENT
UID:20250228T183000UTC-82550zwAVB@https://cameronstation.org/
DTSTAMP:20260424T175953Z
CATEGORIES:Local Events
DESCRIPTION:<p>Alexandria Rec Center Hosting Free Kids’ Book Swap Event<br 
 />Friday\, February 28\, 2025\, 6:30-7:30 PM</p>\n<p>Kids and their parent
 s can bring in gently used books to the Leonard “Chick” Armstrong Recreati
 on Center (25 W Reed Ave\, Alexandria\, VA 22305)&nbsp\;from 6:30 to 7:30 
 pm and swap them for fresh books from other locals.</p>\n<p>This event is 
 hosted by Recreation\, Parks and Cultural Activities and co-sponsored by t
 he Duncan Library. The event includes crafts\, storytelling\, and activiti
 es for all ages. Participants can expect to receive one book for every boo
 k turned in.&nbsp\;</p>
DTSTART;TZID=America/New_York:20250228T183000
DTEND;TZID=America/New_York:20250228T193000
SUMMARY:Alexandria Rec Center Hosting Free Kids’ Book Swap Event
URL:https://cameronstation.org/calendar/86-local-events/9049-alexandria-rec
 -center-hosting-free-kids-book-swap-event
X-ALT-DESC;FMTTYPE=TEXT/HTML:<p>Alexandria Rec Center Hosting Free Kids’ Bo
 ok Swap Event<br />Friday\, February 28\, 2025\, 6:30-7:30 PM</p>\n<p>Kids
  and their parents can bring in gently used books to the Leonard “Chick” A
 rmstrong Recreation Center (25 W Reed Ave\, Alexandria\, VA 22305)&nbsp\;f
 rom 6:30 to 7:30 pm and swap them for fresh books from other locals.</p>\n
 <p>This event is hosted by Recreation\, Parks and Cultural Activities and 
 co-sponsored by the Duncan Library. The event includes crafts\, storytelli
 ng\, and activities for all ages. Participants can expect to receive one b
 ook for every book turned in.&nbsp\;</p>
END:VEVENT
END:VCALENDAR
