BEGIN:VCALENDAR
VERSION:2.0
PRODID:-//https://cameronstation.org//NONSGML kigkonsult.se iCalcreator 2.41.71//
CALSCALE:GREGORIAN
METHOD:PUBLISH
UID:30346234-3535-4666-b034-346137333762
X-WR-CALNAME:JCal Pro Calendar
X-WR-CALDESC:Your online events calendar
X-WR-TIMEZONE:America/New_York
BEGIN:VTIMEZONE
TZID:America/New_York
TZUNTIL:20271107T060000Z
BEGIN:STANDARD
TZNAME:EST
DTSTART:20251102T020000
TZOFFSETFROM:-0400
TZOFFSETTO:-0500
RDATE:20261101T020000
END:STANDARD
BEGIN:DAYLIGHT
TZNAME:EDT
DTSTART:20260308T020000
TZOFFSETFROM:-0500
TZOFFSETTO:-0400
RDATE:20270314T020000
END:DAYLIGHT
END:VTIMEZONE
BEGIN:VEVENT
UID:20241112T190000UTC-4433HjnjC4@https://cameronstation.org/
DTSTAMP:20260424T223204Z
CATEGORIES:Local Events
DESCRIPTION:<p>The November 12\, 2024 Legislative Meeting of the Alexandria
  City Council is being held in the Council Chamber (<a href='https://nam04
 .safelinks.protection.outlook.com/?url=https%3A%2F%2Fwww.google.com%2Fmaps
 %2Fsearch%2F301%2BKing%2BStreet%2C%2BAlexandria%2C%2BVirginia%2C%2B22314%3
 Fentry%3Dgmail%26source%3Dg&amp\;data=05%7C02%7Cjmichel%40gocampmgmt.com%7
 Cc93fc5e9aca9459b0d8e08dcff727691%7Cca12f77d06a94c3b91bde66b6992fabb%7C0%7
 C0%7C638666117629142150%7CUnknown%7CTWFpbGZsb3d8eyJFbXB0eU1hcGkiOnRydWUsIl
 YiOiIwLjAuMDAwMCIsIlAiOiJXaW4zMiIsIkFOIjoiTWFpbCIsIldUIjoyfQ%3D%3D%7C0%7C%
 7C%7C&amp\;sdata=7mOgEMiX0urIrgKMGlUKmrYL05N5Xbu1KKMFxAnc9oU%3D&amp\;reser
 ved=0' target='_blank' rel='noopener noreferrer'>301 King Street\, Alexand
 ria\, Virginia\, 22314</a>) and electronically. <span style='text-decorati
 on: underline\;'><a href='https://apps.alexandriava.gov/Calendar/Detail.as
 px?si=57669' target='_blank' rel='noopener noreferrer' data-link-type='web
 '>Click here</a></span>&nbsp\;for more information.</p>
DTSTART;TZID=America/New_York:20241112T190000
DTEND;TZID=America/New_York:20241112T200000
SUMMARY:Alexandria City Council Legislative Meeting
URL:https://cameronstation.org/calendar/86-local-events/7644-alexandria-cit
 y-council-legislative-meeting
X-ALT-DESC;FMTTYPE=TEXT/HTML:<p>The November 12\, 2024 Legislative Meeting 
 of the Alexandria City Council is being held in the Council Chamber (<a hr
 ef='https://nam04.safelinks.protection.outlook.com/?url=https%3A%2F%2Fwww.
 google.com%2Fmaps%2Fsearch%2F301%2BKing%2BStreet%2C%2BAlexandria%2C%2BVirg
 inia%2C%2B22314%3Fentry%3Dgmail%26source%3Dg&amp\;data=05%7C02%7Cjmichel%4
 0gocampmgmt.com%7Cc93fc5e9aca9459b0d8e08dcff727691%7Cca12f77d06a94c3b91bde
 66b6992fabb%7C0%7C0%7C638666117629142150%7CUnknown%7CTWFpbGZsb3d8eyJFbXB0e
 U1hcGkiOnRydWUsIlYiOiIwLjAuMDAwMCIsIlAiOiJXaW4zMiIsIkFOIjoiTWFpbCIsIldUIjo
 yfQ%3D%3D%7C0%7C%7C%7C&amp\;sdata=7mOgEMiX0urIrgKMGlUKmrYL05N5Xbu1KKMFxAnc
 9oU%3D&amp\;reserved=0' target='_blank' rel='noopener noreferrer'>301 King
  Street\, Alexandria\, Virginia\, 22314</a>) and electronically. <span sty
 le='text-decoration: underline\;'><a href='https://apps.alexandriava.gov/C
 alendar/Detail.aspx?si=57669' target='_blank' rel='noopener noreferrer' da
 ta-link-type='web'>Click here</a></span>&nbsp\;for more information.</p>
END:VEVENT
END:VCALENDAR
