BEGIN:VCALENDAR
VERSION:2.0
PRODID:-//https://cameronstation.org//NONSGML kigkonsult.se iCalcreator 2.41.71//
CALSCALE:GREGORIAN
METHOD:PUBLISH
UID:39346662-6335-4436-b462-353664323035
X-WR-CALNAME:JCal Pro Calendar
X-WR-CALDESC:Your online events calendar
X-WR-TIMEZONE:America/New_York
BEGIN:VTIMEZONE
TZID:America/New_York
TZUNTIL:20271107T060000Z
BEGIN:STANDARD
TZNAME:EST
DTSTART:20251102T020000
TZOFFSETFROM:-0400
TZOFFSETTO:-0500
RDATE:20261101T020000
END:STANDARD
BEGIN:DAYLIGHT
TZNAME:EDT
DTSTART:20260308T020000
TZOFFSETFROM:-0500
TZOFFSETTO:-0400
RDATE:20270314T020000
END:DAYLIGHT
END:VTIMEZONE
BEGIN:VEVENT
UID:20250926T090000UTC-5135VFRJbo@https://cameronstation.org/
DTSTAMP:20260424T061122Z
CATEGORIES:Advisories
DTSTART;TZID=America/New_York:20250926T090000
DTEND;TZID=America/New_York:20250926T160000
SUMMARY:ARC Application Due Date for 10/15 Meeting
URL:https://cameronstation.org/calendar/84-advisories/9239-arc-application-
 due-date-for-10-15-meeting
END:VEVENT
END:VCALENDAR
