BEGIN:VCALENDAR
VERSION:2.0
PRODID:-//https://cameronstation.org//NONSGML kigkonsult.se iCalcreator 2.41.71//
CALSCALE:GREGORIAN
METHOD:PUBLISH
UID:31613835-3734-4330-b938-343335316132
X-WR-CALNAME:JCal Pro Calendar
X-WR-CALDESC:Your online events calendar
X-WR-TIMEZONE:America/New_York
BEGIN:VTIMEZONE
TZID:America/New_York
TZUNTIL:20271107T060000Z
BEGIN:STANDARD
TZNAME:EST
DTSTART:20251102T020000
TZOFFSETFROM:-0400
TZOFFSETTO:-0500
RDATE:20261101T020000
END:STANDARD
BEGIN:DAYLIGHT
TZNAME:EDT
DTSTART:20260308T020000
TZOFFSETFROM:-0500
TZOFFSETTO:-0400
RDATE:20270314T020000
END:DAYLIGHT
END:VTIMEZONE
BEGIN:VEVENT
UID:20250704T090000UTC-7079neJ4n0@https://cameronstation.org/
DTSTAMP:20260424T093817Z
CATEGORIES:Advisories
DESCRIPTION:<p><span style='color: #ff0000\;'><strong>Onsite Management Off
 ice Holiday Hours</strong></span></p>\n<p>The&nbsp\;office will be&nbsp\;<
 strong>closed</strong> Friday\, July 4\, 2025\, in observance of the Indep
 endence Day holiday. Normal hours will resume Monday\, July 7\, 2025\, at 
 9:00 am.</p>\n<p><span style='color: #ff0000\;'><strong>Cameron Club Holid
 ay Hours</strong></span></p>\n<p>The Cameron Club will operate&nbsp\;as no
 rmal&nbsp\;Friday\, July 4\, 2025</p>\n<p><span style='color: #ff0000\;'><
 strong>Shuttle Schedule</strong></span></p>\n<p>The shuttle will&nbsp\;not
 &nbsp\;operate Friday\, July 4\, 2025.&nbsp\;Service will resume on Monday
 \, July 7\, 2025.</p>\n<p><strong><span style='color: #ff0000\;'>Normal Tr
 ash/Recycling Services</span></strong></p>\n<p>All Trash/Recycling service
 s will operate as normal on Thursday\, July 3\, and Friday\, July 4\, 2025
 .&nbsp\;</p>\n<p><strong><span style='color: #ff0000\;'>Fourth of July: Us
 e of Fireworks!</span></strong></p>\n<p>In the City of Alexandria\, it is 
 illegal for anyone to store\, offer\, or expose for sale\, sell at retail\
 , or explode any fireworks\, including sparklers\, within the Alexandria c
 ity limits. Violations of the fireworks law are punishable by fines up to 
 $2\,500 and up to a year in prison. <a href='https://visitalexandria.com/f
 ourth-of-july/'>Click here</a> for a list of celebrations and fireworks di
 splays.&nbsp\;</p>
DTSTART;TZID=America/New_York:20250704T090000
DTEND;TZID=America/New_York:20250704T100000
SUMMARY:Fourth of July: Office Closed!
URL:https://cameronstation.org/calendar/84-advisories/9155-fourth-of-july-o
 ffice-closed
X-ALT-DESC;FMTTYPE=TEXT/HTML:<p><span style='color: #ff0000\;'><strong>Onsi
 te Management Office Holiday Hours</strong></span></p>\n<p>The&nbsp\;offic
 e will be&nbsp\;<strong>closed</strong> Friday\, July 4\, 2025\, in observ
 ance of the Independence Day holiday. Normal hours will resume Monday\, Ju
 ly 7\, 2025\, at 9:00 am.</p>\n<p><span style='color: #ff0000\;'><strong>C
 ameron Club Holiday Hours</strong></span></p>\n<p>The Cameron Club will op
 erate&nbsp\;as normal&nbsp\;Friday\, July 4\, 2025</p>\n<p><span style='co
 lor: #ff0000\;'><strong>Shuttle Schedule</strong></span></p>\n<p>The shutt
 le will&nbsp\;not&nbsp\;operate Friday\, July 4\, 2025.&nbsp\;Service will
  resume on Monday\, July 7\, 2025.</p>\n<p><strong><span style='color: #ff
 0000\;'>Normal Trash/Recycling Services</span></strong></p>\n<p>All Trash/
 Recycling services will operate as normal on Thursday\, July 3\, and Frida
 y\, July 4\, 2025.&nbsp\;</p>\n<p><strong><span style='color: #ff0000\;'>F
 ourth of July: Use of Fireworks!</span></strong></p>\n<p>In the City of Al
 exandria\, it is illegal for anyone to store\, offer\, or expose for sale\
 , sell at retail\, or explode any fireworks\, including sparklers\, within
  the Alexandria city limits. Violations of the fireworks law are punishabl
 e by fines up to $2\,500 and up to a year in prison. <a href='https://visi
 talexandria.com/fourth-of-july/'>Click here</a> for a list of celebrations
  and fireworks displays.&nbsp\;</p>
END:VEVENT
END:VCALENDAR
