BEGIN:VCALENDAR
VERSION:2.0
PRODID:-//https://cameronstation.org//NONSGML kigkonsult.se iCalcreator 2.41.71//
CALSCALE:GREGORIAN
METHOD:PUBLISH
UID:37393531-6235-4066-a563-363234663936
X-WR-CALNAME:JCal Pro Calendar
X-WR-CALDESC:Your online events calendar
X-WR-TIMEZONE:America/New_York
BEGIN:VTIMEZONE
TZID:America/New_York
TZUNTIL:20271107T060000Z
BEGIN:STANDARD
TZNAME:EST
DTSTART:20251102T020000
TZOFFSETFROM:-0400
TZOFFSETTO:-0500
RDATE:20261101T020000
END:STANDARD
BEGIN:DAYLIGHT
TZNAME:EDT
DTSTART:20260308T020000
TZOFFSETFROM:-0500
TZOFFSETTO:-0400
RDATE:20270314T020000
END:DAYLIGHT
END:VTIMEZONE
BEGIN:VEVENT
UID:20250328T080000UTC-2836OIjv6o@https://cameronstation.org/
DTSTAMP:20260424T161058Z
CATEGORIES:Advisories
DESCRIPTION:<p>Residents are&nbsp\;required&nbsp\;per the&nbsp\;<a href='ht
 tps://www.cameronstation.org/images/CSCA_Design_and_Maintenance_Standards_
 DMS_Effective_09162021.pdf' target='_blank' rel='noopener noreferrer' data
 -link-type='web'>Design &amp\; Maintenance Standards</a>&nbsp\;to submit a
 n application for approval from the Architectural Review Committee&nbsp\;p
 rior&nbsp\;to making any exterior modification to your home or lot.&nbsp\;
 <a href='https://www.cameronstation.org/resident-services/board-committees
 /architectural-review-committee' target='_blank' rel='noopener noreferrer'
  data-link-type='web'>Click here</a>&nbsp\;for more information.</p>\n<p>T
 he&nbsp\;<a href='https://www.cameronstation.org/resident-services/board-c
 ommittees/architectural-review-committee' target='_blank' rel='noopener no
 referrer' data-link-type='web'>Architectural Review Committee</a>&nbsp\;me
 ets the&nbsp\;third Wednesday&nbsp\;of each month.&nbsp\;</p>\n<p>It is im
 portant to note the upcoming ARC meeting dates and the application due dat
 e for your request.&nbsp\;If there are questions\, information\, and/or do
 cuments that are not received by the application due date\, your applicati
 on will be scheduled for the following month (based on finalizing your app
 lication).</p>
DTSTART;TZID=America/New_York:20250328T080000
DTEND;TZID=America/New_York:20250328T170000
SUMMARY:ARC Application Due Date for 4/16 Meeting
URL:https://cameronstation.org/calendar/84-advisories/9091-arc-application-
 due-date-for-4-16-meeting
X-ALT-DESC;FMTTYPE=TEXT/HTML:<p>Residents are&nbsp\;required&nbsp\;per the&
 nbsp\;<a href='https://www.cameronstation.org/images/CSCA_Design_and_Maint
 enance_Standards_DMS_Effective_09162021.pdf' target='_blank' rel='noopener
  noreferrer' data-link-type='web'>Design &amp\; Maintenance Standards</a>&
 nbsp\;to submit an application for approval from the Architectural Review 
 Committee&nbsp\;prior&nbsp\;to making any exterior modification to your ho
 me or lot.&nbsp\;<a href='https://www.cameronstation.org/resident-services
 /board-committees/architectural-review-committee' target='_blank' rel='noo
 pener noreferrer' data-link-type='web'>Click here</a>&nbsp\;for more infor
 mation.</p>\n<p>The&nbsp\;<a href='https://www.cameronstation.org/resident
 -services/board-committees/architectural-review-committee' target='_blank'
  rel='noopener noreferrer' data-link-type='web'>Architectural Review Commi
 ttee</a>&nbsp\;meets the&nbsp\;third Wednesday&nbsp\;of each month.&nbsp\;
 </p>\n<p>It is important to note the upcoming ARC meeting dates and the ap
 plication due date for your request.&nbsp\;If there are questions\, inform
 ation\, and/or documents that are not received by the application due date
 \, your application will be scheduled for the following month (based on fi
 nalizing your application).</p>
END:VEVENT
END:VCALENDAR
