BEGIN:VCALENDAR
VERSION:2.0
PRODID:-//https://cameronstation.org//NONSGML kigkonsult.se iCalcreator 2.41.71//
CALSCALE:GREGORIAN
METHOD:PUBLISH
UID:66653335-3839-4564-b535-366663636362
X-WR-CALNAME:JCal Pro Calendar
X-WR-CALDESC:Your online events calendar
X-WR-TIMEZONE:America/New_York
BEGIN:VTIMEZONE
TZID:America/New_York
TZUNTIL:20271107T060000Z
BEGIN:STANDARD
TZNAME:EST
DTSTART:20251102T020000
TZOFFSETFROM:-0400
TZOFFSETTO:-0500
RDATE:20261101T020000
END:STANDARD
BEGIN:DAYLIGHT
TZNAME:EDT
DTSTART:20260308T020000
TZOFFSETFROM:-0500
TZOFFSETTO:-0400
RDATE:20270314T020000
END:DAYLIGHT
END:VTIMEZONE
BEGIN:VEVENT
UID:20250217T090000UTC-9794hLHJ1K@https://cameronstation.org/
DTSTAMP:20260424T174933Z
CATEGORIES:Advisories
DESCRIPTION:<p><strong>Management Office</strong></p>\n<p>The Management Of
 fice will&nbsp\;be<strong> closed Monday\, February 17\, 2025</strong>\, i
 n observance of Washington's Birthday.&nbsp\;Normal hours will resume Tues
 day\, February 18\, 2025\, at 9:00 am.&nbsp\;</p>\n<p><strong>Cameron Club
 </strong></p>\n<p>The Cameron Club will operate under <strong>normal hours
  on Monday\, February 17\, 2025</strong>.</p>\n<p><strong>Shuttle Bus Sche
 dule&nbsp\;</strong></p>\n<p>The shuttle bus will <strong>not operate Mond
 ay\, February 17\, 2025</strong>.&nbsp\;Shuttle bus service will resume on
  Tuesday\, February 18\, 2025.&nbsp\;<a href='https://www.cameronstation.o
 rg/about/neighborhood-amenities/shuttle-bus' target='_blank' rel='noopener
  noreferrer'>Click here</a>&nbsp\;for the shuttle bus schedule.</p>\n<p><s
 trong>Trash Schedule</strong></p>\n<p>Trash collection will<strong> occur 
 as normal</strong> Monday\, February 17\, 2025.</p>
DTSTART;TZID=America/New_York:20250217T090000
DTEND;TZID=America/New_York:20250217T160000
SUMMARY:Management Office Closed: Washington's Birthday
URL:https://cameronstation.org/calendar/84-advisories/9035-management-offic
 e-closed-washingtons-birthday
X-ALT-DESC;FMTTYPE=TEXT/HTML:<p><strong>Management Office</strong></p>\n<p>
 The Management Office will&nbsp\;be<strong> closed Monday\, February 17\, 
 2025</strong>\, in observance of Washington's Birthday.&nbsp\;Normal hours
  will resume Tuesday\, February 18\, 2025\, at 9:00 am.&nbsp\;</p>\n<p><st
 rong>Cameron Club</strong></p>\n<p>The Cameron Club will operate under <st
 rong>normal hours on Monday\, February 17\, 2025</strong>.</p>\n<p><strong
 >Shuttle Bus Schedule&nbsp\;</strong></p>\n<p>The shuttle bus will <strong
 >not operate Monday\, February 17\, 2025</strong>.&nbsp\;Shuttle bus servi
 ce will resume on Tuesday\, February 18\, 2025.&nbsp\;<a href='https://www
 .cameronstation.org/about/neighborhood-amenities/shuttle-bus' target='_bla
 nk' rel='noopener noreferrer'>Click here</a>&nbsp\;for the shuttle bus sch
 edule.</p>\n<p><strong>Trash Schedule</strong></p>\n<p>Trash collection wi
 ll<strong> occur as normal</strong> Monday\, February 17\, 2025.</p>
END:VEVENT
END:VCALENDAR
