BEGIN:VCALENDAR
VERSION:2.0
PRODID:-//https://cameronstation.org//NONSGML kigkonsult.se iCalcreator 2.41.71//
CALSCALE:GREGORIAN
METHOD:PUBLISH
UID:30376632-3465-4338-a362-383637303835
X-WR-CALNAME:JCal Pro Calendar
X-WR-CALDESC:Your online events calendar
X-WR-TIMEZONE:America/New_York
BEGIN:VTIMEZONE
TZID:America/New_York
TZUNTIL:20271107T060000Z
BEGIN:STANDARD
TZNAME:EST
DTSTART:20251102T020000
TZOFFSETFROM:-0400
TZOFFSETTO:-0500
RDATE:20261101T020000
END:STANDARD
BEGIN:DAYLIGHT
TZNAME:EDT
DTSTART:20260308T020000
TZOFFSETFROM:-0500
TZOFFSETTO:-0400
RDATE:20270314T020000
END:DAYLIGHT
END:VTIMEZONE
BEGIN:VEVENT
UID:20250228T170000UTC-3416ubk7v6@https://cameronstation.org/
DTSTAMP:20260424T174935Z
CATEGORIES:Advisories
DESCRIPTION:<p>Residents are&nbsp\;required&nbsp\;per the&nbsp\;<span style
 ='text-decoration: underline\;'><a href='https://www.cameronstation.org/im
 ages/CSCA_Design_and_Maintenance_Standards_DMS_Effective_09162021.pdf' tar
 get='_blank' rel='noopener noreferrer' data-link-type='web'>Design &amp\; 
 Maintenance Standards</a></span>&nbsp\;to submit an application for approv
 al from the Architectural Review Committee&nbsp\;prior&nbsp\;to making any
  exterior modification to your home or lot.&nbsp\;<a href='https://www.cam
 eronstation.org/resident-services/board-committees/architectural-review-co
 mmittee' target='_blank' rel='noopener noreferrer' data-link-type='web'>Cl
 ick here</a>&nbsp\;for more information.</p>\n<p>The&nbsp\;<span style='te
 xt-decoration: underline\;'><a href='https://www.cameronstation.org/reside
 nt-services/board-committees/architectural-review-committee' target='_blan
 k' rel='noopener noreferrer' data-link-type='web'>Architectural Review Com
 mittee</a></span>&nbsp\;meets the&nbsp\;third Wednesday&nbsp\;of each mont
 h.&nbsp\;</p>\n<p>It is important to note the upcoming ARC meeting dates a
 nd the application due date for your request.&nbsp\;If there are questions
 \, information\, and/or documents that are not received by the application
  due date\, your application will be scheduled for the following month (ba
 sed on finalizing your application).</p>
DTSTART;TZID=America/New_York:20250228T170000
DTEND;TZID=America/New_York:20250228T180000
SUMMARY:ARC Application Due Date for 3/19 Meeting
URL:https://cameronstation.org/calendar/84-advisories/9033-arc-application-
 due-date-for-3-19-meeting
X-ALT-DESC;FMTTYPE=TEXT/HTML:<p>Residents are&nbsp\;required&nbsp\;per the&
 nbsp\;<span style='text-decoration: underline\;'><a href='https://www.came
 ronstation.org/images/CSCA_Design_and_Maintenance_Standards_DMS_Effective_
 09162021.pdf' target='_blank' rel='noopener noreferrer' data-link-type='we
 b'>Design &amp\; Maintenance Standards</a></span>&nbsp\;to submit an appli
 cation for approval from the Architectural Review Committee&nbsp\;prior&nb
 sp\;to making any exterior modification to your home or lot.&nbsp\;<a href
 ='https://www.cameronstation.org/resident-services/board-committees/archit
 ectural-review-committee' target='_blank' rel='noopener noreferrer' data-l
 ink-type='web'>Click here</a>&nbsp\;for more information.</p>\n<p>The&nbsp
 \;<span style='text-decoration: underline\;'><a href='https://www.camerons
 tation.org/resident-services/board-committees/architectural-review-committ
 ee' target='_blank' rel='noopener noreferrer' data-link-type='web'>Archite
 ctural Review Committee</a></span>&nbsp\;meets the&nbsp\;third Wednesday&n
 bsp\;of each month.&nbsp\;</p>\n<p>It is important to note the upcoming AR
 C meeting dates and the application due date for your request.&nbsp\;If th
 ere are questions\, information\, and/or documents that are not received b
 y the application due date\, your application will be scheduled for the fo
 llowing month (based on finalizing your application).</p>
END:VEVENT
END:VCALENDAR
