BEGIN:VCALENDAR
VERSION:2.0
PRODID:-//https://cameronstation.org//NONSGML kigkonsult.se iCalcreator 2.41.71//
CALSCALE:GREGORIAN
METHOD:PUBLISH
UID:61393536-3163-4234-b761-326539333562
X-WR-CALNAME:JCal Pro Calendar
X-WR-CALDESC:Your online events calendar
X-WR-TIMEZONE:America/New_York
BEGIN:VTIMEZONE
TZID:America/New_York
TZUNTIL:20271107T060000Z
BEGIN:STANDARD
TZNAME:EST
DTSTART:20251102T020000
TZOFFSETFROM:-0400
TZOFFSETTO:-0500
RDATE:20261101T020000
END:STANDARD
BEGIN:DAYLIGHT
TZNAME:EDT
DTSTART:20260308T020000
TZOFFSETFROM:-0500
TZOFFSETTO:-0400
RDATE:20270314T020000
END:DAYLIGHT
END:VTIMEZONE
BEGIN:VEVENT
UID:20241224T160000UTC-9698hNU8bd@https://cameronstation.org/
DTSTAMP:20260424T205409Z
CATEGORIES:Advisories
DESCRIPTION:<p>Fitness Center Holiday Hours - Christmas Eve &amp\; Christma
 s Day</p>\n<ul>\n<li>The Fitness Center <strong>is closing&nbsp\;at 4:00 p
 m Tuesday\, December 24\, 2024\, and will be closed Wednesday\, December 2
 5\, 2024</strong>\, in observance of Christmas. The Fitness Center will re
 sume normal hours Thursday\, December 26\, 2024\, at 4:45 am.</li>\n</ul>
DTSTART;TZID=America/New_York:20241224T160000
DTEND;TZID=America/New_York:20241224T170000
SUMMARY:Christmas Eve - Fitness Center Holiday Hours
URL:https://cameronstation.org/calendar/84-advisories/8018-christmas-eve-fi
 tness-center-holiday-hours
X-ALT-DESC;FMTTYPE=TEXT/HTML:<p>Fitness Center Holiday Hours - Christmas Ev
 e &amp\; Christmas Day</p>\n<ul>\n<li>The Fitness Center <strong>is closin
 g&nbsp\;at 4:00 pm Tuesday\, December 24\, 2024\, and will be closed Wedne
 sday\, December 25\, 2024</strong>\, in observance of Christmas. The Fitne
 ss Center will resume normal hours Thursday\, December 26\, 2024\, at 4:45
  am.</li>\n</ul>
END:VEVENT
END:VCALENDAR
