BEGIN:VCALENDAR
VERSION:2.0
PRODID:-//https://cameronstation.org//NONSGML kigkonsult.se iCalcreator 2.41.71//
CALSCALE:GREGORIAN
METHOD:PUBLISH
UID:35353737-6137-4264-a362-663534663938
X-WR-CALNAME:JCal Pro Calendar
X-WR-CALDESC:Your online events calendar
X-WR-TIMEZONE:America/New_York
BEGIN:VTIMEZONE
TZID:America/New_York
TZUNTIL:20271107T060000Z
BEGIN:STANDARD
TZNAME:EST
DTSTART:20251102T020000
TZOFFSETFROM:-0400
TZOFFSETTO:-0500
RDATE:20261101T020000
END:STANDARD
BEGIN:DAYLIGHT
TZNAME:EDT
DTSTART:20260308T020000
TZOFFSETFROM:-0500
TZOFFSETTO:-0400
RDATE:20270314T020000
END:DAYLIGHT
END:VTIMEZONE
BEGIN:VEVENT
UID:20241101T090000UTC-0234KWVTro@https://cameronstation.org/
DTSTAMP:20260424T112215Z
CATEGORIES:Advisories
DESCRIPTION:<p>Applications for the July ARC meeting are due Friday\, June 
 27\, 2025\, at 4:00 pm.&nbsp\;</p>
DTSTART;TZID=America/New_York:20250627T090000
DTEND;TZID=America/New_York:20250627T160000
SUMMARY:ARC Application Due Date for 7/16 Meeting
URL:https://cameronstation.org/calendar/84-advisories/7365-arc-application-
 due-date-for-11-20-meeting
X-ALT-DESC;FMTTYPE=TEXT/HTML:<p>Applications for the July ARC meeting are d
 ue Friday\, June 27\, 2025\, at 4:00 pm.&nbsp\;</p>
END:VEVENT
END:VCALENDAR
