BEGIN:VCALENDAR
VERSION:2.0
PRODID:-//https://cameronstation.org//NONSGML kigkonsult.se iCalcreator 2.41.71//
CALSCALE:GREGORIAN
METHOD:PUBLISH
UID:30626564-6137-4034-b339-323734383736
X-WR-CALNAME:JCal Pro Calendar
X-WR-CALDESC:Your online events calendar
X-WR-TIMEZONE:America/New_York
BEGIN:VTIMEZONE
TZID:America/New_York
TZUNTIL:20271107T060000Z
BEGIN:STANDARD
TZNAME:EST
DTSTART:20251102T020000
TZOFFSETFROM:-0400
TZOFFSETTO:-0500
RDATE:20261101T020000
END:STANDARD
BEGIN:DAYLIGHT
TZNAME:EDT
DTSTART:20260308T020000
TZOFFSETFROM:-0500
TZOFFSETTO:-0400
RDATE:20270314T020000
END:DAYLIGHT
END:VTIMEZONE
BEGIN:VEVENT
UID:20250101T090000UTC-3320cuwNgv@https://cameronstation.org/
DTSTAMP:20260424T192521Z
CATEGORIES:Advisories
DESCRIPTION:<p><strong>Management Office - New Year's Day</strong></p>\n<ul
 >\n<li>The Management Office&nbsp\;<strong>will be&nbsp\;closed Wednesday\
 , January 1\, 2025</strong>\, in observance of the New Year.&nbsp\;Normal 
 hours will resume Thursday\, January 2\, 2025\, at 9:00 am.&nbsp\;</li>\n<
 /ul>\n<p><strong>&nbsp\;Shuttle Bus Schedule&nbsp\;<strong>- Christmas Day
 </strong></strong></p>\n<ul>\n<li>The shuttle bus will&nbsp\;<strong>not&n
 bsp\;operate on&nbsp\;<strong>Wednesday\, January 1\, 2025</strong></stron
 g>.&nbsp\;Shuttle bus service will resume on Thursday\, January 2\, 2025.&
 nbsp\;<a href='https://www.cameronstation.org/about/neighborhood-amenities
 /shuttle-bus' target='_blank' rel='noopener noreferrer'>Click here</a>&nbs
 p\;for the shuttle bus schedule.</li>\n</ul>
DTSTART;TZID=America/New_York:20250101T000000
DTEND;TZID=America/New_York:20250101T235959
SUMMARY:New Year's Day - Management Office Closed
URL:https://cameronstation.org/calendar/84-advisories/7185-new-years-day-of
 fice-closed
X-ALT-DESC;FMTTYPE=TEXT/HTML:<p><strong>Management Office - New Year's Day<
 /strong></p>\n<ul>\n<li>The Management Office&nbsp\;<strong>will be&nbsp\;
 closed Wednesday\, January 1\, 2025</strong>\, in observance of the New Ye
 ar.&nbsp\;Normal hours will resume Thursday\, January 2\, 2025\, at 9:00 a
 m.&nbsp\;</li>\n</ul>\n<p><strong>&nbsp\;Shuttle Bus Schedule&nbsp\;<stron
 g>- Christmas Day</strong></strong></p>\n<ul>\n<li>The shuttle bus will&nb
 sp\;<strong>not&nbsp\;operate on&nbsp\;<strong>Wednesday\, January 1\, 202
 5</strong></strong>.&nbsp\;Shuttle bus service will resume on Thursday\, J
 anuary 2\, 2025.&nbsp\;<a href='https://www.cameronstation.org/about/neigh
 borhood-amenities/shuttle-bus' target='_blank' rel='noopener noreferrer'>C
 lick here</a>&nbsp\;for the shuttle bus schedule.</li>\n</ul>
END:VEVENT
END:VCALENDAR
