BEGIN:VCALENDAR
VERSION:2.0
PRODID:-//https://cameronstation.org//NONSGML kigkonsult.se iCalcreator 2.41.71//
CALSCALE:GREGORIAN
METHOD:PUBLISH
UID:33376633-6434-4334-b165-643666363932
X-WR-CALNAME:JCal Pro Calendar
X-WR-CALDESC:Your online events calendar
X-WR-TIMEZONE:America/New_York
BEGIN:VTIMEZONE
TZID:America/New_York
TZUNTIL:20271107T060000Z
BEGIN:STANDARD
TZNAME:EST
DTSTART:20251102T020000
TZOFFSETFROM:-0400
TZOFFSETTO:-0500
RDATE:20261101T020000
END:STANDARD
BEGIN:DAYLIGHT
TZNAME:EDT
DTSTART:20260308T020000
TZOFFSETFROM:-0500
TZOFFSETTO:-0400
RDATE:20270314T020000
END:DAYLIGHT
END:VTIMEZONE
BEGIN:VEVENT
UID:20241105T060000UTC-2489Ntio8m@https://cameronstation.org/
DTSTAMP:20260425T000536Z
CATEGORIES:Advisories
DESCRIPTION:<p>The Cameron Club will be a polling place for the General Ele
 ction on Tuesday\, November 5\, 2024\, beginning at 6:00 am. Please see be
 low for guidelines provided by the Election Office:</p>\n<p><strong>Time:<
 /strong>&nbsp\;6:00 am to 7:00 pm</p>\n<p><strong>Location:&nbsp\;</strong
 >Cameron Club\, Victoria Hebert Great Room</p>\n<p><strong>Entry:</strong>
 &nbsp\;200 Cameron Station\, Fitness Center entrance</p>\n<p><strong>Exit:
 </strong>&nbsp\;Side exit within the Great Room</p>\n<p>Signs will be post
 ed throughout the Cameron Club to show entry and exit. Volunteers will be 
 on site to guide and assist with parking.</p>
DTSTART;TZID=America/New_York:20241105T060000
DTEND;TZID=America/New_York:20241105T190000
SUMMARY:Election Day - Victoria Hebert Great Room Polling Site
URL:https://cameronstation.org/calendar/84-advisories/7180-election-day-vic
 toria-hebert-great-room-polling-site
X-ALT-DESC;FMTTYPE=TEXT/HTML:<p>The Cameron Club will be a polling place fo
 r the General Election on Tuesday\, November 5\, 2024\, beginning at 6:00 
 am. Please see below for guidelines provided by the Election Office:</p>\n
 <p><strong>Time:</strong>&nbsp\;6:00 am to 7:00 pm</p>\n<p><strong>Locatio
 n:&nbsp\;</strong>Cameron Club\, Victoria Hebert Great Room</p>\n<p><stron
 g>Entry:</strong>&nbsp\;200 Cameron Station\, Fitness Center entrance</p>
 \n<p><strong>Exit:</strong>&nbsp\;Side exit within the Great Room</p>\n<p>
 Signs will be posted throughout the Cameron Club to show entry and exit. V
 olunteers will be on site to guide and assist with parking.</p>
END:VEVENT
END:VCALENDAR
