BEGIN:VCALENDAR
VERSION:2.0
PRODID:-//https://cameronstation.org//NONSGML kigkonsult.se iCalcreator 2.41.71//
CALSCALE:GREGORIAN
METHOD:PUBLISH
UID:62386232-6231-4262-a563-336131373632
X-WR-CALNAME:JCal Pro Calendar
X-WR-CALDESC:Your online events calendar
X-WR-TIMEZONE:America/New_York
BEGIN:VTIMEZONE
TZID:America/New_York
TZUNTIL:20271107T060000Z
BEGIN:STANDARD
TZNAME:EST
DTSTART:20251102T020000
TZOFFSETFROM:-0400
TZOFFSETTO:-0500
RDATE:20261101T020000
END:STANDARD
BEGIN:DAYLIGHT
TZNAME:EDT
DTSTART:20260308T020000
TZOFFSETFROM:-0500
TZOFFSETTO:-0400
RDATE:20270314T020000
END:DAYLIGHT
END:VTIMEZONE
BEGIN:VEVENT
UID:20250604T103000UTC-7217vxuAWv@https://cameronstation.org/
DTSTAMP:20260423T201218Z
CATEGORIES:Fitness Center
DESCRIPTION:<p><span>Stretch &amp\; Core Class Cancelled Today</span></p>\n
 <p><span>The class instructor is not able to hold session today. The class
  normally held at 10:30 in the Multipurpose Court has been cancelled. The 
 class should resume as normal on Wednesday\, but updates will be provided 
 if necessary.</span></p>
DTSTART;TZID=America/New_York:20260302T103000
DTEND;TZID=America/New_York:20260302T113000
SUMMARY:Stretch and Core - Cancelled
URL:https://cameronstation.org/calendar/83-fitness-center/9400-stretch-and-
 core
X-ALT-DESC;FMTTYPE=TEXT/HTML:<p><span>Stretch &amp\; Core Class Cancelled T
 oday</span></p>\n<p><span>The class instructor is not able to hold session
  today. The class normally held at 10:30 in the Multipurpose Court has bee
 n cancelled. The class should resume as normal on Wednesday\, but updates 
 will be provided if necessary.</span></p>
END:VEVENT
END:VCALENDAR
