BEGIN:VCALENDAR
VERSION:2.0
PRODID:-//https://cameronstation.org//NONSGML kigkonsult.se iCalcreator 2.41.71//
CALSCALE:GREGORIAN
METHOD:PUBLISH
UID:63343662-3463-4136-a638-616161306665
X-WR-CALNAME:JCal Pro Calendar
X-WR-CALDESC:Your online events calendar
X-WR-TIMEZONE:America/New_York
BEGIN:VTIMEZONE
TZID:America/New_York
TZUNTIL:20271107T060000Z
BEGIN:STANDARD
TZNAME:EST
DTSTART:20251102T020000
TZOFFSETFROM:-0400
TZOFFSETTO:-0500
RDATE:20261101T020000
END:STANDARD
BEGIN:DAYLIGHT
TZNAME:EDT
DTSTART:20260308T020000
TZOFFSETFROM:-0500
TZOFFSETTO:-0400
RDATE:20270314T020000
END:DAYLIGHT
END:VTIMEZONE
BEGIN:VEVENT
UID:20250104T090000UTC-5373Fjs9Tv@https://cameronstation.org/
DTSTAMP:20260424T161136Z
CATEGORIES:Fitness Center
DESCRIPTION:<p><strong>Zumba Class is cancelled today and a POMSQUAD Class 
 will be provided\, instead.&nbsp\;</strong></p>\n<p><strong>Saturday\, Mar
 ch 29\, 2025\, <span style='color: #ff0000\;'>11:00 am - 12:00 pm</span>\,
  Multipurpose Court.&nbsp\;</strong></p>
DTSTART;TZID=America/New_York:20250329T110000
DTEND;TZID=America/New_York:20250329T120000
SUMMARY:Zumba - Canceled for POMSQUAD Class
URL:https://cameronstation.org/calendar/83-fitness-center/8978-zumba
X-ALT-DESC;FMTTYPE=TEXT/HTML:<p><strong>Zumba Class is cancelled today and 
 a POMSQUAD Class will be provided\, instead.&nbsp\;</strong></p>\n<p><stro
 ng>Saturday\, March 29\, 2025\, <span style='color: #ff0000\;'>11:00 am - 
 12:00 pm</span>\, Multipurpose Court.&nbsp\;</strong></p>
END:VEVENT
END:VCALENDAR
