BEGIN:VCALENDAR
VERSION:2.0
PRODID:-//https://cameronstation.org//NONSGML kigkonsult.se iCalcreator 2.41.71//
CALSCALE:GREGORIAN
METHOD:PUBLISH
UID:38343632-3362-4330-b135-633866643538
X-WR-CALNAME:JCal Pro Calendar
X-WR-CALDESC:Your online events calendar
X-WR-TIMEZONE:America/New_York
BEGIN:VTIMEZONE
TZID:America/New_York
TZUNTIL:20271107T060000Z
BEGIN:STANDARD
TZNAME:EST
DTSTART:20251102T020000
TZOFFSETFROM:-0400
TZOFFSETTO:-0500
RDATE:20261101T020000
END:STANDARD
BEGIN:DAYLIGHT
TZNAME:EDT
DTSTART:20260308T020000
TZOFFSETFROM:-0500
TZOFFSETTO:-0400
RDATE:20270314T020000
END:DAYLIGHT
END:VTIMEZONE
BEGIN:VEVENT
UID:20250104T090000UTC-5373Fjs9Tv@https://cameronstation.org/
DTSTAMP:20260424T161136Z
CATEGORIES:Fitness Center
DESCRIPTION:<p><strong>Zumba Class is cancelled today and a POMSQUAD Class 
 will be provided\, instead.&nbsp\;</strong></p>\n<p><strong>Saturday\, Mar
 ch 1\, 2025\, 9:00 - 10:00 am\, Multipurpose Court.&nbsp\;</strong></p>
DTSTART;TZID=America/New_York:20250301T090000
DTEND;TZID=America/New_York:20250301T100000
SUMMARY:Zumba - Canceled for POMSQUAD Class
URL:https://cameronstation.org/calendar/83-fitness-center/8974-zumba
X-ALT-DESC;FMTTYPE=TEXT/HTML:<p><strong>Zumba Class is cancelled today and 
 a POMSQUAD Class will be provided\, instead.&nbsp\;</strong></p>\n<p><stro
 ng>Saturday\, March 1\, 2025\, 9:00 - 10:00 am\, Multipurpose Court.&nbsp\
 ;</strong></p>
END:VEVENT
END:VCALENDAR
