BEGIN:VCALENDAR
VERSION:2.0
PRODID:-//https://cameronstation.org//NONSGML kigkonsult.se iCalcreator 2.41.71//
CALSCALE:GREGORIAN
METHOD:PUBLISH
UID:66363834-3863-4939-b961-613632383434
X-WR-CALNAME:JCal Pro Calendar
X-WR-CALDESC:Your online events calendar
X-WR-TIMEZONE:America/New_York
BEGIN:VTIMEZONE
TZID:America/New_York
TZUNTIL:20271107T060000Z
BEGIN:STANDARD
TZNAME:EST
DTSTART:20251102T020000
TZOFFSETFROM:-0400
TZOFFSETTO:-0500
RDATE:20261101T020000
END:STANDARD
BEGIN:DAYLIGHT
TZNAME:EDT
DTSTART:20260308T020000
TZOFFSETFROM:-0500
TZOFFSETTO:-0400
RDATE:20270314T020000
END:DAYLIGHT
END:VTIMEZONE
BEGIN:VEVENT
UID:20250118T090000UTC-68883eilO6@https://cameronstation.org/
DTSTAMP:20260424T192539Z
CATEGORIES:Fitness Center
DESCRIPTION:<p><strong>Zumba Class is cancelled today and a POMSQUAD Class 
 will be provided\, instead.&nbsp\;</strong></p>\n<p><strong>Saturday\, Jan
 uary 18\, 2025\, 8:30 - 9:30 am\, Multipurpose Court.&nbsp\;</strong></p>
DTSTART;TZID=America/New_York:20250118T083000
DTEND;TZID=America/New_York:20250118T093000
SUMMARY:Zumba - Canceled for POMSQUAD Class
URL:https://cameronstation.org/calendar/83-fitness-center/8968-zumba-cancel
 ed-for-pomsquad-class
X-ALT-DESC;FMTTYPE=TEXT/HTML:<p><strong>Zumba Class is cancelled today and 
 a POMSQUAD Class will be provided\, instead.&nbsp\;</strong></p>\n<p><stro
 ng>Saturday\, January 18\, 2025\, 8:30 - 9:30 am\, Multipurpose Court.&nbs
 p\;</strong></p>
END:VEVENT
END:VCALENDAR
