BEGIN:VCALENDAR
VERSION:2.0
PRODID:-//https://cameronstation.org//NONSGML kigkonsult.se iCalcreator 2.41.71//
CALSCALE:GREGORIAN
METHOD:PUBLISH
UID:64393833-3234-4930-a261-323537333431
X-WR-CALNAME:JCal Pro Calendar
X-WR-CALDESC:Your online events calendar
X-WR-TIMEZONE:America/New_York
BEGIN:VTIMEZONE
TZID:America/New_York
TZUNTIL:20271107T060000Z
BEGIN:STANDARD
TZNAME:EST
DTSTART:20251102T020000
TZOFFSETFROM:-0400
TZOFFSETTO:-0500
RDATE:20261101T020000
END:STANDARD
BEGIN:DAYLIGHT
TZNAME:EDT
DTSTART:20260308T020000
TZOFFSETFROM:-0500
TZOFFSETTO:-0400
RDATE:20270314T020000
END:DAYLIGHT
END:VTIMEZONE
BEGIN:VEVENT
UID:20251024T160000UTC-01373PA0vG@https://cameronstation.org/
DTSTAMP:20260424T042313Z
CATEGORIES:CSCA Event Calendar
DESCRIPTION:<p>WHO:&nbsp\;Korean BBQ</p>\n<p>WHAT:&nbsp\;Korean Cuisine</p>
 \n<p>WHERE:&nbsp\;Cameron Club Parking Lot</p>\n<p>WHEN:&nbsp\;Friday\, Oc
 tober 24\, 2025\, 4:00 pm - 7:30 pm</p>\n<p><span style='text-decoration: 
 underline\;'><a href='https://www.kbbqbox.net/' target='_blank' rel='noope
 ner noreferrer' data-link-type='web'>PREORDER LINK</a></span></p>\n<p><str
 ong>Click on the link to pre-order on Friday\, October 24\, 2025.</strong>
 </p>
DTSTART;TZID=America/New_York:20251024T160000
DTEND;TZID=America/New_York:20251024T193000
SUMMARY:Food Truck Friday
URL:https://cameronstation.org/calendar/68-csca-event-calendar/9319-food-tr
 uck-friday
X-ALT-DESC;FMTTYPE=TEXT/HTML:<p>WHO:&nbsp\;Korean BBQ</p>\n<p>WHAT:&nbsp\;K
 orean Cuisine</p>\n<p>WHERE:&nbsp\;Cameron Club Parking Lot</p>\n<p>WHEN:&
 nbsp\;Friday\, October 24\, 2025\, 4:00 pm - 7:30 pm</p>\n<p><span style='
 text-decoration: underline\;'><a href='https://www.kbbqbox.net/' target='_
 blank' rel='noopener noreferrer' data-link-type='web'>PREORDER LINK</a></s
 pan></p>\n<p><strong>Click on the link to pre-order on Friday\, October 24
 \, 2025.</strong></p>
END:VEVENT
END:VCALENDAR
