BEGIN:VCALENDAR
VERSION:2.0
PRODID:-//https://cameronstation.org//NONSGML kigkonsult.se iCalcreator 2.41.71//
CALSCALE:GREGORIAN
METHOD:PUBLISH
UID:39323737-3562-4963-b834-386262323032
X-WR-CALNAME:JCal Pro Calendar
X-WR-CALDESC:Your online events calendar
X-WR-TIMEZONE:America/New_York
BEGIN:VTIMEZONE
TZID:America/New_York
TZUNTIL:20271107T060000Z
BEGIN:STANDARD
TZNAME:EST
DTSTART:20251102T020000
TZOFFSETFROM:-0400
TZOFFSETTO:-0500
RDATE:20261101T020000
END:STANDARD
BEGIN:DAYLIGHT
TZNAME:EDT
DTSTART:20260308T020000
TZOFFSETFROM:-0500
TZOFFSETTO:-0400
RDATE:20270314T020000
END:DAYLIGHT
END:VTIMEZONE
BEGIN:VEVENT
UID:20250417T193000UTC-4461JUcrLL@https://cameronstation.org/
DTSTAMP:20260424T142907Z
CATEGORIES:CSCA Event Calendar
DESCRIPTION:<p><strong>Volunteers are needed to help fill eggs on Thursday\
 , April 17\, 2025\, at 7:30 pm</strong>\, in the Victoria Hebert Great Roo
 m\,<strong> and to help set up in the park on Saturday\, April 19\, at 9:0
 0 am</strong>.</p>\n<p>Please email <a href='mailto:events@cameronstation.
 org'></a><a href='mailto:events@cameronstation.org'>events@cameronstation.
 org</a> for any questions.</p>\n<p>Also\, if anyone&nbsp\;with a convertib
 le is available to chauffeur&nbsp\;the Easter bunny\, in costume on Saturd
 ay\, April 19\, to transport at 10:00 am for the event\, please email the 
 address above.</p>
DTSTART;TZID=America/New_York:20250417T193000
DTEND;TZID=America/New_York:20250417T193000
SUMMARY:Volunteers Needed - Fill Eggstravaganza Eggs
URL:https://cameronstation.org/calendar/68-csca-event-calendar/9100-volunte
 ers-needed-fill-eggstravaganza-eggs
X-ALT-DESC;FMTTYPE=TEXT/HTML:<p><strong>Volunteers are needed to help fill 
 eggs on Thursday\, April 17\, 2025\, at 7:30 pm</strong>\, in the Victoria
  Hebert Great Room\,<strong> and to help set up in the park on Saturday\, 
 April 19\, at 9:00 am</strong>.</p>\n<p>Please email <a href='mailto:event
 s@cameronstation.org'></a><a href='mailto:events@cameronstation.org'>event
 s@cameronstation.org</a> for any questions.</p>\n<p>Also\, if anyone&nbsp\
 ;with a convertible is available to chauffeur&nbsp\;the Easter bunny\, in 
 costume on Saturday\, April 19\, to transport at 10:00 am for the event\, 
 please email the address above.</p>
END:VEVENT
END:VCALENDAR
