BEGIN:VCALENDAR
VERSION:2.0
PRODID:-//https://cameronstation.org//NONSGML kigkonsult.se iCalcreator 2.41.71//
CALSCALE:GREGORIAN
METHOD:PUBLISH
UID:62396266-6132-4631-a431-356236643566
X-WR-CALNAME:JCal Pro Calendar
X-WR-CALDESC:Your online events calendar
X-WR-TIMEZONE:America/New_York
BEGIN:VTIMEZONE
TZID:America/New_York
TZUNTIL:20271107T060000Z
BEGIN:STANDARD
TZNAME:EST
DTSTART:20251102T020000
TZOFFSETFROM:-0400
TZOFFSETTO:-0500
RDATE:20261101T020000
END:STANDARD
BEGIN:DAYLIGHT
TZNAME:EDT
DTSTART:20260308T020000
TZOFFSETFROM:-0500
TZOFFSETTO:-0400
RDATE:20270314T020000
END:DAYLIGHT
END:VTIMEZONE
BEGIN:VEVENT
UID:20250721T183000UTC-8399rrBaDn@https://cameronstation.org/
DTSTAMP:20260424T095011Z
CATEGORIES:Condo Association
DESCRIPTION:<p><strong>Condominiums at Cameron Boulevard will host a specia
 l meeting Monday\, July 21\, 2025\, at 6:30 pm in the Victoria Hebert Grea
 t Room. </strong></p>\n<p>This meeting will be to discuss the status of th
 e community wide life-safety balcony replacement project and vote to appro
 ve the proposal financing. Representatives from the engineering team\, con
 struction contractor\, financial partners\, management and legal counsel w
 ill be presenting.</p>
DTSTART;TZID=America/New_York:20250721T183000
DTEND;TZID=America/New_York:20250721T193000
SUMMARY:Condominiums at Cameron Boulevard Town Hall Meeting
URL:https://cameronstation.org/calendar/68-csca-event-calendar/75-condo-ass
 ociation/9166-condominiums-at-cameron-boulevard-town-hall-meeting
X-ALT-DESC;FMTTYPE=TEXT/HTML:<p><strong>Condominiums at Cameron Boulevard w
 ill host a special meeting Monday\, July 21\, 2025\, at 6:30 pm in the Vic
 toria Hebert Great Room. </strong></p>\n<p>This meeting will be to discuss
  the status of the community wide life-safety balcony replacement project 
 and vote to approve the proposal financing. Representatives from the engin
 eering team\, construction contractor\, financial partners\, management an
 d legal counsel will be presenting.</p>
END:VEVENT
END:VCALENDAR
