BEGIN:VCALENDAR
VERSION:2.0
PRODID:-//https://cameronstation.org//NONSGML kigkonsult.se iCalcreator 2.41.71//
CALSCALE:GREGORIAN
METHOD:PUBLISH
UID:34326361-3331-4033-b436-643764663235
X-WR-CALNAME:JCal Pro Calendar
X-WR-CALDESC:Your online events calendar
X-WR-TIMEZONE:America/New_York
BEGIN:VTIMEZONE
TZID:America/New_York
TZUNTIL:20271107T060000Z
BEGIN:STANDARD
TZNAME:EST
DTSTART:20251102T020000
TZOFFSETFROM:-0400
TZOFFSETTO:-0500
RDATE:20261101T020000
END:STANDARD
BEGIN:DAYLIGHT
TZNAME:EDT
DTSTART:20260308T020000
TZOFFSETFROM:-0500
TZOFFSETTO:-0400
RDATE:20270314T020000
END:DAYLIGHT
END:VTIMEZONE
BEGIN:VEVENT
UID:20250121T190000UTC-3061EUGZWo@https://cameronstation.org/
DTSTAMP:20260424T125014Z
CATEGORIES:Condo Association
DESCRIPTION:<p>The Carlton Place Condominium Board typically meets the thir
 d Tuesday of each month at 7:00 pm\, via a hybrid virtual conference using
  Zoom and in person in the Henderson Room on the 2nd Floor of the Cameron 
 Club building. <strong>This meeting will be held virtually via Zoom.</stro
 ng> See meeting information below:&nbsp\;</p>\n<p>Join Zoom Meeting</p>\n<
 p><a href='https://nam04.safelinks.protection.outlook.com/?url=https%3A%2F
 %2Fus06web.zoom.us%2Fj%2F83555968570%3Fpwd%3DaQDWqj0O3aSGf9qF1dOED8bAYuEqh
 b.1&amp\;data=05%7C02%7Cjmichel%40gocampmgmt.com%7C085da7c3cdb6453b9f5508d
 d57673463%7Cca12f77d06a94c3b91bde66b6992fabb%7C0%7C0%7C638762822958065668%
 7CUnknown%7CTWFpbGZsb3d8eyJFbXB0eU1hcGkiOnRydWUsIlYiOiIwLjAuMDAwMCIsIlAiOi
 JXaW4zMiIsIkFOIjoiTWFpbCIsIldUIjoyfQ%3D%3D%7C0%7C%7C%7C&amp\;sdata=Yu3JUO5
 UQw7oorqE0IGj2IdhZiAOwevIRBxI9qK9kC4%3D&amp\;reserved=0'></a><a href='http
 s://us06web.zoom.us/j/83555968570?pwd=aQDWqj0O3aSGf9qF1dOED8bAYuEqhb.1'>ht
 tps://us06web.zoom.us/j/83555968570?pwd=aQDWqj0O3aSGf9qF1dOED8bAYuEqhb.1</
 a></p>\n<p>Meeting ID: 835 5596 8570</p>\n<p>Passcode: 796320</p>
DTSTART;TZID=America/New_York:20250520T190000
DTEND;TZID=America/New_York:20250520T200000
SUMMARY:Carlton Place Condominium Board Meeting - Virtual
URL:https://cameronstation.org/calendar/68-csca-event-calendar/75-condo-ass
 ociation/9080-carlton-place-condominium-board-meeting
X-ALT-DESC;FMTTYPE=TEXT/HTML:<p>The Carlton Place Condominium Board typical
 ly meets the third Tuesday of each month at 7:00 pm\, via a hybrid virtual
  conference using Zoom and in person in the Henderson Room on the 2nd Floo
 r of the Cameron Club building. <strong>This meeting will be held virtuall
 y via Zoom.</strong> See meeting information below:&nbsp\;</p>\n<p>Join Zo
 om Meeting</p>\n<p><a href='https://nam04.safelinks.protection.outlook.com
 /?url=https%3A%2F%2Fus06web.zoom.us%2Fj%2F83555968570%3Fpwd%3DaQDWqj0O3aSG
 f9qF1dOED8bAYuEqhb.1&amp\;data=05%7C02%7Cjmichel%40gocampmgmt.com%7C085da7
 c3cdb6453b9f5508dd57673463%7Cca12f77d06a94c3b91bde66b6992fabb%7C0%7C0%7C63
 8762822958065668%7CUnknown%7CTWFpbGZsb3d8eyJFbXB0eU1hcGkiOnRydWUsIlYiOiIwL
 jAuMDAwMCIsIlAiOiJXaW4zMiIsIkFOIjoiTWFpbCIsIldUIjoyfQ%3D%3D%7C0%7C%7C%7C&a
 mp\;sdata=Yu3JUO5UQw7oorqE0IGj2IdhZiAOwevIRBxI9qK9kC4%3D&amp\;reserved=0'>
 </a><a href='https://us06web.zoom.us/j/83555968570?pwd=aQDWqj0O3aSGf9qF1dO
 ED8bAYuEqhb.1'>https://us06web.zoom.us/j/83555968570?pwd=aQDWqj0O3aSGf9qF1
 dOED8bAYuEqhb.1</a></p>\n<p>Meeting ID: 835 5596 8570</p>\n<p>Passcode: 79
 6320</p>
END:VEVENT
END:VCALENDAR
