BEGIN:VCALENDAR
VERSION:2.0
PRODID:-//https://cameronstation.org//NONSGML kigkonsult.se iCalcreator 2.41.71//
CALSCALE:GREGORIAN
METHOD:PUBLISH
UID:64623865-3539-4936-a439-643136396465
X-WR-CALNAME:JCal Pro Calendar
X-WR-CALDESC:Your online events calendar
X-WR-TIMEZONE:America/New_York
BEGIN:VTIMEZONE
TZID:America/New_York
TZUNTIL:20271107T060000Z
BEGIN:STANDARD
TZNAME:EST
DTSTART:20251102T020000
TZOFFSETFROM:-0400
TZOFFSETTO:-0500
RDATE:20261101T020000
END:STANDARD
BEGIN:DAYLIGHT
TZNAME:EDT
DTSTART:20260308T020000
TZOFFSETFROM:-0500
TZOFFSETTO:-0400
RDATE:20270314T020000
END:DAYLIGHT
END:VTIMEZONE
BEGIN:VEVENT
UID:20240318T183000UTC-2334WGj5gj@https://cameronstation.org/
DTSTAMP:20260425T000600Z
CATEGORIES:Condo Association
DESCRIPTION:<p>The Condos at Cameron Station Blvd. Board will hold thier An
 nual Meeting in the Victoria Hebert Great Room at 6:30 pm.&nbsp\;</p>
DTSTART;TZID=America/New_York:20241118T183000
DTEND;TZID=America/New_York:20241118T193000
SUMMARY:Condos at Cameron Station Blvd Annual Meeting
URL:https://cameronstation.org/calendar/68-csca-event-calendar/75-condo-ass
 ociation/6916-condos-at-cameron-station-blvd-board-meeting
X-ALT-DESC;FMTTYPE=TEXT/HTML:<p>The Condos at Cameron Station Blvd. Board w
 ill hold thier Annual Meeting in the Victoria Hebert Great Room at 6:30 pm
 .&nbsp\;</p>
END:VEVENT
END:VCALENDAR
