BEGIN:VCALENDAR
VERSION:2.0
PRODID:-//https://cameronstation.org//NONSGML kigkonsult.se iCalcreator 2.41.71//
CALSCALE:GREGORIAN
METHOD:PUBLISH
UID:38333833-3061-4632-b631-643865313033
X-WR-CALNAME:JCal Pro Calendar
X-WR-CALDESC:Your online events calendar
X-WR-TIMEZONE:America/New_York
BEGIN:VTIMEZONE
TZID:America/New_York
TZUNTIL:20271107T060000Z
BEGIN:STANDARD
TZNAME:EST
DTSTART:20251102T020000
TZOFFSETFROM:-0400
TZOFFSETTO:-0500
RDATE:20261101T020000
END:STANDARD
BEGIN:DAYLIGHT
TZNAME:EDT
DTSTART:20260308T020000
TZOFFSETFROM:-0500
TZOFFSETTO:-0400
RDATE:20270314T020000
END:DAYLIGHT
END:VTIMEZONE
BEGIN:VEVENT
UID:20250904T140000UTC-7002W0eUZO@https://cameronstation.org/
DTSTAMP:20260424T061114Z
CATEGORIES:Board & Committee Meetings
DESCRIPTION:<p class='indent-0'>Financial Advisory Committee will hold a Sp
 ecial Meeting Wednesday\, September 10\, 2025\, via virtual conference\, a
 t 2:00 pm. <span style='text-decoration: underline\;'><a href='resident-se
 rvices/board-committees/financial-advisory-committee' target='_blank' rel=
 'noopener noreferrer' data-link-type='web'>Click here</a></span> for more 
 information.</p>
DTSTART;TZID=America/New_York:20250910T140000
DTEND;TZID=America/New_York:20250910T140000
SUMMARY:FAC Special Meeting
URL:https://cameronstation.org/calendar/68-csca-event-calendar/74-committee
 -meetings/9181-fac-special-meeting
X-ALT-DESC;FMTTYPE=TEXT/HTML:<p class='indent-0'>Financial Advisory Committ
 ee will hold a Special Meeting Wednesday\, September 10\, 2025\, via virtu
 al conference\, at 2:00 pm. <span style='text-decoration: underline\;'><a 
 href='resident-services/board-committees/financial-advisory-committee' tar
 get='_blank' rel='noopener noreferrer' data-link-type='web'>Click here</a>
 </span> for more information.</p>
END:VEVENT
END:VCALENDAR
