BEGIN:VCALENDAR
VERSION:2.0
PRODID:-//https://cameronstation.org//NONSGML kigkonsult.se iCalcreator 2.41.71//
CALSCALE:GREGORIAN
METHOD:PUBLISH
UID:38656236-6232-4536-b965-386163323866
X-WR-CALNAME:JCal Pro Calendar
X-WR-CALDESC:Your online events calendar
X-WR-TIMEZONE:America/New_York
BEGIN:VTIMEZONE
TZID:America/New_York
TZUNTIL:20271107T060000Z
BEGIN:STANDARD
TZNAME:EST
DTSTART:20251102T020000
TZOFFSETFROM:-0400
TZOFFSETTO:-0500
RDATE:20261101T020000
END:STANDARD
BEGIN:DAYLIGHT
TZNAME:EDT
DTSTART:20260308T020000
TZOFFSETFROM:-0500
TZOFFSETTO:-0400
RDATE:20270314T020000
END:DAYLIGHT
END:VTIMEZONE
BEGIN:VEVENT
UID:20250611T140000UTC-6969uO4xD9@https://cameronstation.org/
DTSTAMP:20260424T112412Z
CATEGORIES:Board & Committee Meetings
DESCRIPTION:<p>There will be a Special Meeting on Wednesday\, June 11\, 202
 5\, at 2:00 pm\, via virtual conference.&nbsp\;<a href='https://www.camero
 nstation.org/pdf/Special_Meeting_-_Reserve_Study_--_June_11_2025.pdf' targ
 et='_blank' rel='noopener' class='wf_file'>Click here</a>&nbsp\;for more i
 nformation.&nbsp\;</p>
DTSTART;TZID=America/New_York:20250611T140000
DTEND;TZID=America/New_York:20250611T150000
SUMMARY:Financial Advisory Committee Special Meeting
URL:https://cameronstation.org/calendar/68-csca-event-calendar/74-committee
 -meetings/9144-financial-advisory-committee-special-meeting
X-ALT-DESC;FMTTYPE=TEXT/HTML:<p>There will be a Special Meeting on Wednesda
 y\, June 11\, 2025\, at 2:00 pm\, via virtual conference.&nbsp\;<a href='h
 ttps://www.cameronstation.org/pdf/Special_Meeting_-_Reserve_Study_--_June_
 11_2025.pdf' target='_blank' rel='noopener' class='wf_file'>Click here</a>
 &nbsp\;for more information.&nbsp\;</p>
END:VEVENT
END:VCALENDAR
