BEGIN:VCALENDAR
VERSION:2.0
PRODID:-//https://cameronstation.org//NONSGML kigkonsult.se iCalcreator 2.41.71//
CALSCALE:GREGORIAN
METHOD:PUBLISH
UID:36613266-3562-4434-a262-333439633663
X-WR-CALNAME:JCal Pro Calendar
X-WR-CALDESC:Your online events calendar
X-WR-TIMEZONE:America/New_York
BEGIN:VTIMEZONE
TZID:America/New_York
TZUNTIL:20271107T060000Z
BEGIN:STANDARD
TZNAME:EST
DTSTART:20251102T020000
TZOFFSETFROM:-0400
TZOFFSETTO:-0500
RDATE:20261101T020000
END:STANDARD
BEGIN:DAYLIGHT
TZNAME:EDT
DTSTART:20260308T020000
TZOFFSETFROM:-0500
TZOFFSETTO:-0400
RDATE:20270314T020000
END:DAYLIGHT
END:VTIMEZONE
BEGIN:VEVENT
UID:20240103T193000EST-6219MLR5B1@https://cameronstation.org/
DTSTAMP:20260424T161209Z
CATEGORIES:Board & Committee Meetings
DESCRIPTION:<p>The Activities &amp\; Events Planning Committee meetings are
  typically held on the first Wednesday of each month\, via virtual confere
 nce.&nbsp\;<strong>This meeting has been cancelled due to lack of quorum.&
 nbsp\;</strong>Please click&nbsp\;<a href='our-neighborhood/board-committe
 es/activities-events-planning-committee'>here</a>&nbsp\;for meeting inform
 ation.</p>
DTSTART;TZID=America/New_York:20250305T193000
DTEND;TZID=America/New_York:20250305T203000
SUMMARY:Activities & Events Planning Committee Meeting - Cancelled
URL:https://cameronstation.org/calendar/68-csca-event-calendar/74-committee
 -meetings/7989-activities-events-planning-committee-meeting
X-ALT-DESC;FMTTYPE=TEXT/HTML:<p>The Activities &amp\; Events Planning Commi
 ttee meetings are typically held on the first Wednesday of each month\, vi
 a virtual conference.&nbsp\;<strong>This meeting has been cancelled due to
  lack of quorum.&nbsp\;</strong>Please click&nbsp\;<a href='our-neighborho
 od/board-committees/activities-events-planning-committee'>here</a>&nbsp\;f
 or meeting information.</p>
END:VEVENT
END:VCALENDAR
