BEGIN:VCALENDAR
VERSION:2.0
PRODID:-//https://cameronstation.org//NONSGML kigkonsult.se iCalcreator 2.41.71//
CALSCALE:GREGORIAN
METHOD:PUBLISH
UID:63313039-3262-4737-b163-643435623937
X-WR-CALNAME:JCal Pro Calendar
X-WR-CALDESC:Your online events calendar
X-WR-TIMEZONE:America/New_York
BEGIN:VTIMEZONE
TZID:America/New_York
TZUNTIL:20271107T060000Z
BEGIN:STANDARD
TZNAME:EST
DTSTART:20251102T020000
TZOFFSETFROM:-0400
TZOFFSETTO:-0500
RDATE:20261101T020000
END:STANDARD
BEGIN:DAYLIGHT
TZNAME:EDT
DTSTART:20260308T020000
TZOFFSETFROM:-0500
TZOFFSETTO:-0400
RDATE:20270314T020000
END:DAYLIGHT
END:VTIMEZONE
BEGIN:VEVENT
UID:20260127T190000UTC-7373ptn8H9@https://cameronstation.org/
DTSTAMP:20260423T221230Z
CATEGORIES:Board & Committee Meetings
DESCRIPTION:<p>The Board of Directors meetings are typically held the last 
 Tuesday of the month at 7:00pm\, via a hybrid virtual conference using Zoo
 m.&nbsp\; <strong>This meeting has been rescheduled to Tuesday\, May 19\, 
 2026\, at 7:00 pm.</strong> Please click&nbsp\;<a href='our-neighborhood/b
 oard-committees/board-of-directors'>here</a>&nbsp\;to obtain meeting detai
 ls.</p>
DTSTART;TZID=America/New_York:20260519T190000
DTEND;TZID=America/New_York:20260519T190000
SUMMARY:Board of Directors Meeting - Rescheduled
URL:https://cameronstation.org/calendar/68-csca-event-calendar/74-committee
 -meetings/10410-board-of-directors-meeting
X-ALT-DESC;FMTTYPE=TEXT/HTML:<p>The Board of Directors meetings are typical
 ly held the last Tuesday of the month at 7:00pm\, via a hybrid virtual con
 ference using Zoom.&nbsp\; <strong>This meeting has been rescheduled to Tu
 esday\, May 19\, 2026\, at 7:00 pm.</strong> Please click&nbsp\;<a href='o
 ur-neighborhood/board-committees/board-of-directors'>here</a>&nbsp\;to obt
 ain meeting details.</p>
END:VEVENT
END:VCALENDAR
