BEGIN:VCALENDAR
VERSION:2.0
PRODID:-//https://cameronstation.org//NONSGML kigkonsult.se iCalcreator 2.41.71//
CALSCALE:GREGORIAN
METHOD:PUBLISH
UID:64343761-6266-4235-a563-616162383831
X-WR-CALNAME:JCal Pro Calendar
X-WR-CALDESC:Your online events calendar
X-WR-TIMEZONE:America/New_York
BEGIN:VTIMEZONE
TZID:America/New_York
TZUNTIL:20271107T060000Z
BEGIN:STANDARD
TZNAME:EST
DTSTART:20251102T020000
TZOFFSETFROM:-0400
TZOFFSETTO:-0500
RDATE:20261101T020000
END:STANDARD
BEGIN:DAYLIGHT
TZNAME:EDT
DTSTART:20260308T020000
TZOFFSETFROM:-0500
TZOFFSETTO:-0400
RDATE:20270314T020000
END:DAYLIGHT
END:VTIMEZONE
BEGIN:VEVENT
UID:20250903T190000UTC-9118B2wLDP@https://cameronstation.org/
DTSTAMP:20260424T061115Z
CATEGORIES:Civic Association
DESCRIPTION:<p>The next Cameron Station Civic Association (“Civic Associati
 on”) Zoom membership meeting is&nbsp\;September 3\, 2025\, from 7:00 to 8:
 00 PM.&nbsp\;<span style='text-decoration: underline\; color: #000000\;'><
 a href='categories/our-neighborhood/civic-association' style='color: #0000
 00\; text-decoration: underline\;'>Click here</a></span> for more informat
 ion.</p>\n<p>We are extremely pleased to announce that our guest speaker w
 ill be our Congressional representative\,&nbsp\;<strong>Congressman Don Be
 yer</strong>.</p>\n<p><strong><em>All Cameron Station residents and busine
 ss owners are welcome to attend!</em></strong></p>\n<p><strong>Join Zoom M
 eeting</strong></p>\n<p><strong><a href='https://nam04.safelinks.protectio
 n.outlook.com/?url=https%3A%2F%2Fus02web.zoom.us%2Fj%2F84504233387%3Fpwd%3
 D8g1BK24i9WdHgHWar5Zx6kbHqklNIA.1&amp\;data=05%7C02%7Cjmichel%40gocampmgmt
 .com%7C7a961e4e4b064c285d3108dde42eef1d%7Cca12f77d06a94c3b91bde66b6992fabb
 %7C0%7C0%7C638917612668827455%7CUnknown%7CTWFpbGZsb3d8eyJFbXB0eU1hcGkiOnRy
 dWUsIlYiOiIwLjAuMDAwMCIsIlAiOiJXaW4zMiIsIkFOIjoiTWFpbCIsIldUIjoyfQ%3D%3D%7
 C0%7C%7C%7C&amp\;sdata=YzoNIvRrO6s4xvgH3MRtv0x85WY5CqtkhGJerGMYb9o%3D&amp\
 ;reserved=0'></a><a href='https://us02web.zoom.us/j/84504233387?pwd=8g1BK2
 4i9WdHgHWar5Zx6kbHqklNIA.1'>https://us02web.zoom.us/j/84504233387?pwd=8g1B
 K24i9WdHgHWar5Zx6kbHqklNIA.1</a></strong></p>\n<p><strong>Meeting ID:&nbsp
 \;845 0423 3387</strong></p>\n<p><strong>Passcode: 901794</strong></p>\n<p
 ><strong>Phone</strong>:&nbsp\;+1 301-715-8592&nbsp\;(Washington DC)</p>\n
 <p><strong>Congressman Don Beyer:&nbsp\;</strong>&nbsp\;Updates and a Q&am
 p\;Q. (<strong>7:00 – 8:00 pm</strong>)</p>\n<p>&nbsp\;</p>
DTSTART;TZID=America/New_York:20250903T190000
DTEND;TZID=America/New_York:20250903T190000
SUMMARY:Civic Association Meeting
URL:https://cameronstation.org/calendar/68-csca-event-calendar/73-civic-ass
 ociation/9110-civic-association-meeting
X-ALT-DESC;FMTTYPE=TEXT/HTML:<p>The next Cameron Station Civic Association 
 (“Civic Association”) Zoom membership meeting is&nbsp\;September 3\, 2025\
 , from 7:00 to 8:00 PM.&nbsp\;<span style='text-decoration: underline\; co
 lor: #000000\;'><a href='categories/our-neighborhood/civic-association' st
 yle='color: #000000\; text-decoration: underline\;'>Click here</a></span> 
 for more information.</p>\n<p>We are extremely pleased to announce that ou
 r guest speaker will be our Congressional representative\,&nbsp\;<strong>C
 ongressman Don Beyer</strong>.</p>\n<p><strong><em>All Cameron Station res
 idents and business owners are welcome to attend!</em></strong></p>\n<p><s
 trong>Join Zoom Meeting</strong></p>\n<p><strong><a href='https://nam04.sa
 felinks.protection.outlook.com/?url=https%3A%2F%2Fus02web.zoom.us%2Fj%2F84
 504233387%3Fpwd%3D8g1BK24i9WdHgHWar5Zx6kbHqklNIA.1&amp\;data=05%7C02%7Cjmi
 chel%40gocampmgmt.com%7C7a961e4e4b064c285d3108dde42eef1d%7Cca12f77d06a94c3
 b91bde66b6992fabb%7C0%7C0%7C638917612668827455%7CUnknown%7CTWFpbGZsb3d8eyJ
 FbXB0eU1hcGkiOnRydWUsIlYiOiIwLjAuMDAwMCIsIlAiOiJXaW4zMiIsIkFOIjoiTWFpbCIsI
 ldUIjoyfQ%3D%3D%7C0%7C%7C%7C&amp\;sdata=YzoNIvRrO6s4xvgH3MRtv0x85WY5CqtkhG
 JerGMYb9o%3D&amp\;reserved=0'></a><a href='https://us02web.zoom.us/j/84504
 233387?pwd=8g1BK24i9WdHgHWar5Zx6kbHqklNIA.1'>https://us02web.zoom.us/j/845
 04233387?pwd=8g1BK24i9WdHgHWar5Zx6kbHqklNIA.1</a></strong></p>\n<p><strong
 >Meeting ID:&nbsp\;845 0423 3387</strong></p>\n<p><strong>Passcode: 901794
 </strong></p>\n<p><strong>Phone</strong>:&nbsp\;+1 301-715-8592&nbsp\;(Was
 hington DC)</p>\n<p><strong>Congressman Don Beyer:&nbsp\;</strong>&nbsp\;U
 pdates and a Q&amp\;Q. (<strong>7:00 – 8:00 pm</strong>)</p>\n<p>&nbsp\;</
 p>
END:VEVENT
END:VCALENDAR
