BEGIN:VCALENDAR
VERSION:2.0
PRODID:-//https://cameronstation.org//NONSGML kigkonsult.se iCalcreator 2.41.71//
CALSCALE:GREGORIAN
METHOD:PUBLISH
UID:35663565-3066-4164-a133-653730656563
X-WR-CALNAME:JCal Pro Calendar
X-WR-CALDESC:Your online events calendar
X-WR-TIMEZONE:America/New_York
BEGIN:VTIMEZONE
TZID:America/New_York
TZUNTIL:20271107T060000Z
BEGIN:STANDARD
TZNAME:EST
DTSTART:20251102T020000
TZOFFSETFROM:-0400
TZOFFSETTO:-0500
RDATE:20261101T020000
END:STANDARD
BEGIN:DAYLIGHT
TZNAME:EDT
DTSTART:20260308T020000
TZOFFSETFROM:-0500
TZOFFSETTO:-0400
RDATE:20270314T020000
END:DAYLIGHT
END:VTIMEZONE
BEGIN:VEVENT
UID:20250205T190000UTC-2694eUaCBO@https://cameronstation.org/
DTSTAMP:20260424T175954Z
CATEGORIES:Civic Association
DESCRIPTION:<p>The Cameron Station Civic Association Membership Meeting is 
 February 5\, 2025\, at 7:00 pm. <a href='https://www.cameronstation.org/ca
 tegories/our-neighborhood/civic-association'><span style='text-decoration:
  underline\;'>Click here</span></a> for more information.</p>
DTSTART;TZID=America/New_York:20250205T190000
DTEND;TZID=America/New_York:20250205T190000
SUMMARY:Cameron Station Civic Association Meeting
URL:https://cameronstation.org/calendar/68-csca-event-calendar/73-civic-ass
 ociation/9011-cameron-station-civic-association-meeting
X-ALT-DESC;FMTTYPE=TEXT/HTML:<p>The Cameron Station Civic Association Membe
 rship Meeting is February 5\, 2025\, at 7:00 pm. <a href='https://www.came
 ronstation.org/categories/our-neighborhood/civic-association'><span style=
 'text-decoration: underline\;'>Click here</span></a> for more information.
 </p>
END:VEVENT
END:VCALENDAR
