BEGIN:VCALENDAR
VERSION:2.0
PRODID:-//https://cameronstation.org//NONSGML kigkonsult.se iCalcreator 2.41.71//
CALSCALE:GREGORIAN
METHOD:PUBLISH
UID:39333231-3431-4332-a166-623361653562
X-WR-CALNAME:JCal Pro Calendar
X-WR-CALDESC:Your online events calendar
X-WR-TIMEZONE:America/New_York
BEGIN:VTIMEZONE
TZID:America/New_York
TZUNTIL:20271107T060000Z
BEGIN:STANDARD
TZNAME:EST
DTSTART:20251102T020000
TZOFFSETFROM:-0400
TZOFFSETTO:-0500
RDATE:20261101T020000
END:STANDARD
BEGIN:DAYLIGHT
TZNAME:EDT
DTSTART:20260308T020000
TZOFFSETFROM:-0500
TZOFFSETTO:-0400
RDATE:20270314T020000
END:DAYLIGHT
END:VTIMEZONE
BEGIN:VEVENT
UID:20260204T190000UTC-9589eCntDN@https://cameronstation.org/
DTSTAMP:20260423T232756Z
CATEGORIES:Civic Association
DESCRIPTION:<p>The Civic Association will meet via Zoom on Wednesday\, Febr
 uary 4\, 2026\, at 7:00 pm. <a href='resident-services/civic-association'>
 Click here</a> for more information.&nbsp\;</p>
DTSTART;TZID=America/New_York:20260204T190000
DTEND;TZID=America/New_York:20260204T200000
SUMMARY:Civic Association Membership Meeting
URL:https://cameronstation.org/calendar/68-csca-event-calendar/73-civic-ass
 ociation/10416-civic-association-membership-meeting
X-ALT-DESC;FMTTYPE=TEXT/HTML:<p>The Civic Association will meet via Zoom on
  Wednesday\, February 4\, 2026\, at 7:00 pm. <a href='resident-services/ci
 vic-association'>Click here</a> for more information.&nbsp\;</p>
END:VEVENT
END:VCALENDAR
