BEGIN:VCALENDAR
VERSION:2.0
PRODID:-//https://cameronstation.org//NONSGML kigkonsult.se iCalcreator 2.41.71//
CALSCALE:GREGORIAN
METHOD:PUBLISH
UID:34353662-6532-4331-b036-643633386263
X-WR-CALNAME:JCal Pro Calendar
X-WR-CALDESC:Your online events calendar
X-WR-TIMEZONE:America/New_York
BEGIN:VTIMEZONE
TZID:America/New_York
TZUNTIL:20271107T060000Z
BEGIN:STANDARD
TZNAME:EST
DTSTART:20251102T020000
TZOFFSETFROM:-0400
TZOFFSETTO:-0500
RDATE:20261101T020000
END:STANDARD
BEGIN:DAYLIGHT
TZNAME:EDT
DTSTART:20260308T020000
TZOFFSETFROM:-0500
TZOFFSETTO:-0400
RDATE:20270314T020000
END:DAYLIGHT
END:VTIMEZONE
BEGIN:VEVENT
UID:20260815T080000UTC-0640rPpVa8@https://cameronstation.org/
DTSTAMP:20260423T195922Z
CATEGORIES:CSCA Event Calendar
DESCRIPTION:<p>More information to come!</p>
DTSTART;TZID=America/New_York:20260815T080000
DTEND;TZID=America/New_York:20260815T120000
SUMMARY:Pawsh Dog Wash 3k Walk
URL:https://cameronstation.org/calendar/68-csca-event-calendar/10462-pawsh-
 dog-wash-3k-walk
X-ALT-DESC;FMTTYPE=TEXT/HTML:<p>More information to come!</p>
END:VEVENT
END:VCALENDAR
