BEGIN:VCALENDAR
VERSION:2.0
PRODID:-//https://cameronstation.org//NONSGML kigkonsult.se iCalcreator 2.41.71//
CALSCALE:GREGORIAN
METHOD:PUBLISH
UID:33373333-6465-4839-b137-613061313764
X-WR-CALNAME:JCal Pro Calendar
X-WR-CALDESC:Your online events calendar
X-WR-TIMEZONE:America/New_York
BEGIN:VTIMEZONE
TZID:America/New_York
TZUNTIL:20271107T060000Z
BEGIN:STANDARD
TZNAME:EST
DTSTART:20251102T020000
TZOFFSETFROM:-0400
TZOFFSETTO:-0500
RDATE:20261101T020000
END:STANDARD
BEGIN:DAYLIGHT
TZNAME:EDT
DTSTART:20260308T020000
TZOFFSETFROM:-0500
TZOFFSETTO:-0400
RDATE:20270314T020000
END:DAYLIGHT
END:VTIMEZONE
BEGIN:VEVENT
UID:20260418T130000UTC-9107Rh9oVS@https://cameronstation.org/
DTSTAMP:20260423T182343Z
CATEGORIES:CSCA Event Calendar
DESCRIPTION:<p><strong><span>Goodwill Truck Returning to Cameron Station!</
 span></strong></p>\n<p><span>Goodwill of Greater Washington will be hostin
 g another Donation Drive in the Cameron Club Parking Lot\, Saturday\, Apri
 l 18\, 2026\, 1:00 pm to 4:00 pm. Donate your gently used clothing and hou
 sehold goods to help support Goodwill's training programs and services. Ot
 her items that can be donated include:</span></p>\n<ul>\n<li><span>Books</
 span></li>\n<li><span>Appliances</span></li>\n<li><span>Electronics</span>
 </li>\n<li><span>Computers</span></li>\n<li><span>CDs &amp\; DVDs</span></
 li>\n</ul>\n<p><span>For more information\, please contact the coordinator
 \, Carolyn Becker\, </span><span>at </span><span><a href='mailto:carolyn.b
 ecker@dcgoodwill.org'>carolyn.becker@dcgoodwill.org</a></span>.</p>
DTSTART;TZID=America/New_York:20260418T130000
DTEND;TZID=America/New_York:20260418T160000
SUMMARY:Goodwill Donation Truck
URL:https://cameronstation.org/calendar/68-csca-event-calendar/10453-goodwi
 ll-donation-truck
X-ALT-DESC;FMTTYPE=TEXT/HTML:<p><strong><span>Goodwill Truck Returning to C
 ameron Station!</span></strong></p>\n<p><span>Goodwill of Greater Washingt
 on will be hosting another Donation Drive in the Cameron Club Parking Lot\
 , Saturday\, April 18\, 2026\, 1:00 pm to 4:00 pm. Donate your gently used
  clothing and household goods to help support Goodwill's training programs
  and services. Other items that can be donated include:</span></p>\n<ul>\n
 <li><span>Books</span></li>\n<li><span>Appliances</span></li>\n<li><span>E
 lectronics</span></li>\n<li><span>Computers</span></li>\n<li><span>CDs &am
 p\; DVDs</span></li>\n</ul>\n<p><span>For more information\, please contac
 t the coordinator\, Carolyn Becker\, </span><span>at </span><span><a href=
 'mailto:carolyn.becker@dcgoodwill.org'>carolyn.becker@dcgoodwill.org</a></
 span>.</p>
END:VEVENT
END:VCALENDAR
