BEGIN:VCALENDAR
VERSION:2.0
PRODID:-//https://cameronstation.org//NONSGML kigkonsult.se iCalcreator 2.41.71//
CALSCALE:GREGORIAN
METHOD:PUBLISH
UID:31643431-3232-4137-a261-666261656532
X-WR-CALNAME:JCal Pro Calendar
X-WR-CALDESC:Your online events calendar
X-WR-TIMEZONE:America/New_York
BEGIN:VTIMEZONE
TZID:America/New_York
TZUNTIL:20271107T060000Z
BEGIN:STANDARD
TZNAME:EST
DTSTART:20251102T020000
TZOFFSETFROM:-0400
TZOFFSETTO:-0500
RDATE:20261101T020000
END:STANDARD
BEGIN:DAYLIGHT
TZNAME:EDT
DTSTART:20260308T020000
TZOFFSETFROM:-0500
TZOFFSETTO:-0400
RDATE:20270314T020000
END:DAYLIGHT
END:VTIMEZONE
BEGIN:VEVENT
UID:20260402T193000UTC-34607s2IDC@https://cameronstation.org/
DTSTAMP:20260423T182239Z
CATEGORIES:CSCA Event Calendar
DESCRIPTION:<p style='text-align: left\;'><strong>Help Fill Eggs:</strong> 
 Join your neighbors on<strong> Thursday\, April 2\, 2026\, at 7:30 PM in t
 he Victoria Hebert Great Room</strong> to fill eggs with treats.</p>\n<p><
 strong>Also\, Help Set Up:</strong> <strong>Come out on Saturday\, April 4
 \, 2026\, at 9:00 AM</strong> to help set up in the park before the festiv
 ities begin. If you’re interested or have questions\, email <a href='mailt
 o:events@cameronstation.org.'>events@cameronstation.org.</a></p>\n<p style
 ='text-align: left\;'>&nbsp\;</p>
DTSTART;TZID=America/New_York:20260402T193000
DTEND;TZID=America/New_York:20260402T203000
SUMMARY:Help Fill Easter Eggs! - Volunteers Needed!
URL:https://cameronstation.org/calendar/68-csca-event-calendar/10448-help-f
 ill-easter-eggs-volunteers-needed
X-ALT-DESC;FMTTYPE=TEXT/HTML:<p style='text-align: left\;'><strong>Help Fil
 l Eggs:</strong> Join your neighbors on<strong> Thursday\, April 2\, 2026\
 , at 7:30 PM in the Victoria Hebert Great Room</strong> to fill eggs with 
 treats.</p>\n<p><strong>Also\, Help Set Up:</strong> <strong>Come out on S
 aturday\, April 4\, 2026\, at 9:00 AM</strong> to help set up in the park 
 before the festivities begin. If you’re interested or have questions\, ema
 il <a href='mailto:events@cameronstation.org.'>events@cameronstation.org.<
 /a></p>\n<p style='text-align: left\;'>&nbsp\;</p>
END:VEVENT
END:VCALENDAR
